BEGIN:VCALENDAR
VERSION:2.0
PRODID:-//wp-events-plugin.com//7.2.2.1//EN
TZID:Asia/Tokyo
X-WR-TIMEZONE:Asia/Tokyo
BEGIN:VEVENT
UID:188@jser.gr.jp
DTSTART;TZID=Asia/Tokyo;VALUE=DATE:20250804
DTEND;TZID=Asia/Tokyo;VALUE=DATE:20250806
DTSTAMP:20250828T001529Z
URL:https://www.jser.gr.jp/events/44k_boshu/
SUMMARY:第44回エネルギー・資源学会研究発表会 研究発表
 募集
DESCRIPTION:本会は，エネルギー，資源，環境を巡る諸課題
 に長期的な視点から取り組むため，それら全般に通暁
 する幅広い知識を有する人材だけでなく，それぞれの
 領域的な専門分野で活躍する多くの研究者が，個別の
 専門領域や産官学の枠を越えて情報交換や議論を行う
 場を提供してきました．\nそのような中，更なる研究の
 発展と技術交流を期す場として，第44 回エネルギー・
 資源学会研究発表会を，2025年８月に東京大学 駒場Ⅰキ
 ャンパスを会場に予定して開催します．\nなお，本会で
 は，本研究発表会と１月のコンファレンスにおいて優
 秀な研究業績をあげた若干名（個人）に「茅賞」，「
 学生発表賞」を授与します．当該分野の研究・開発に
 携わっておられる大学，研究機関，企業等からの多数
 の発表を期待します．\nまた，研究発表会およびコンフ
 ァレンスの講演論文を，J-STAGE に掲載される「エネルギ
 ー・資源学会論文誌」の研究論文・技術論文として同
 時投稿できる制度を設けております．但し，原稿種別
 および受付の可否については査読委員会の事前審査で
 決定され，受付後は研究発表会での発表の後に，通常
 の研究論文・技術論文と同様の査読プロセスにより審
 査を開始し， 採否を決定します．\n\n&nbsp\;\n\n１．研究
 発表会の概要\n〔期　　日〕2025 年８月４日（月）～５
 日（火）\n〔会　　場〕東京大学駒場Ⅰキャンパス（東
 京都目黒区駒場3-8-1）\n\n&nbsp\;\n\n２．研究発表の募集\n
 〔研究内容〕\nエネルギー・資源・環境に関する研究開
 発\n（内容はオリジナルのものが望ましい．研究論文・
 技術論文として同時投稿する場合はオリジナルに限る
 ）\n\n&nbsp\;\n\n①一般セッション\n※プログラム編成の参
 考にしますので，発表の希望セッションを以下より選
 択のうえ，発表申込の際，ご記入ください．但し，プ
 ログラム編成や発表内容により希望セッション以外で
 お願いすることがあります．\n\n&nbsp\;\n\n【資　　　　
 　源】１．化石燃料資源　２．原子力　3．再生可能エ
 ネルギー　４．廃棄物　５．その他資源\n【エネルギー
 需給】６．国際エネルギー需給（我が国を含む）　７
 ．地域エネルギー需給\n８．部門別エネルギー需要（民
 生，交通等）　９．エネルギー経済\n【エネルギー変換
 ・輸送システム】10．電力システム　　　11．高効率発
 電（燃料電池含む）\n12．液化・ガス化　13．水素　14．
 エネルギー貯蔵\n【エネルギー利用システム】15．コー
 ジェネレーション　　16．ヒートポンプ　　17．省エネ
 ルギー\n【環　境　問　題】18．地球温暖化　19．環境
 問題一般\n【制　度　問　題】20．エネルギー市場改革
 　21．エネルギー政策　22．循環型社会\n【そ　　の　
 　他】23．防災　24．エネルギー教育（ESD を含む）\n25
 ．その他（セッション名をご提案ください）\n26．ポス
 ターセッション\n\n&nbsp\;\n\n②企画セッション\n＊企画提
 案者としてのオーガナイザーを１名立て，セッション
 名，趣旨・目的，発表予定者と題目・発表内容要旨な
 どを添えて発表申込をしてください．発表件数は，４
 〜６件程度としますので，周りの方に声をかけていた
 だき，積極的にご応募ください．\n※これまでの企画セ
 ッションの例\n・エリアエネルギーマネジメントプログ
 ラム（SIPプロジェクト）\n・家庭部門のCO2排出実態統計
 調査\n・2050 年に向けた日本のエネルギー需給\n＊企画
 セッションとして採択されなかった場合は，一般セッ
 ションの個別発表に変更することもあります．\n＊研究
 発表会参加費以外の費用は必要ありません．\n\n&nbsp\;\n\
 n③ポスターセッション\n＊ポスターセッションを開催
 します（8/5(火)）．\n\n&nbsp\;\n\n〔発表資格〕\n（一般セ
 ッション・企画セッション）\n＊本会会員（正会員・学
 生会員・特別会員）とする．\n（未加入の方は必ずご入
 会のうえお申込みください．研究発表の連名は特に制
 約を設けておりません）\n\n&nbsp\;\n\n（ポスターセッシ
 ョン）\n＊開催日時点で35 歳以下である学部・修士・博
 士の学生\n（エネルギー・資源学会学生会員に限ります
 ので，必ずご入会のうえお申込みください．\n共同発表
 者の連名は特に制約を設けておりません）\n\n&nbsp\;\n\n
 〔講演論文〕（ポスター発表申込の方は講演論文の提
 出は必要ございません）\n＊頁数は，講演論文執筆要項
 （テンプレート）を使用し作成した枚数です．\n・口頭
 発表のみの場合：刷り上がり２～６頁\n・同時投稿をす
 る場合：刷り上がり５～10頁\n＊講演論文集は，本会Web
 からのダウンロード方式としますが，希望者にはCD-ROM
 版も配布します．\n＊発表申込時に提出いただく発表内
 容要旨（200文字以内）をプログラムを兼ねた形式で公
 開・配布しますので，申込時にはご留意ください．\n＊
 同時投稿を希望される場合，以下の原稿種別を参照の
 上，研究論文か技術論文かを選択ください．\n会誌執筆
 要項兼テンプレートではなく，講演論文執筆要項（テ
 ンプレート）を必ず使用してください．\nなお，原稿種
 別および受付の可否については事前審査で決定され，
 研究発表会での発表の後に，通常の研究論文・技術論
 文と同様の査読プロセスにより審査を開始します．\n\n\
 n\n\n種　別\n内　　容\n基準頁数\n\n\n研究論文\nオリジナ
 ルな研究論文で本会の会誌に掲載するのが適当とみら
 れるもの\n（会誌にはアブストラクト１頁のみ掲載，電
 子ジャーナルに本文を掲載）\n５−10\n\n\n技術論文\nオ
 リジナルな論文で主としてエネルギー・資源・環境に
 関わる実験や調査の分析結果等を報告するもの\n（会誌
 にはアブストラクト１頁のみ掲載，電子ジャーナルに
 本文を掲載）\n５−10\n\n\n\n&nbsp\;\n\n〔発表採否〕\n＊採
 否は発表申込書の内容に基づき本会で決定します．な
 お，提出された原稿により採否を見直す場合がありま
 す．\n\n&nbsp\;\n\n〔発表時間〕１件につき15〜20 分程度（
 質疑・討論を含む）\n\n&nbsp\;\n\n〔参加費〕会誌2025年７
 月号掲載のinformation「研究発表会参加案内」および本会
 Web サイト「各種行事」＞「研究発表会」でご案内しま
 す．\n\n&nbsp\;\n\n〔発表申込方法〕*申込は締め切りまし
 た．\n\n以下よりお申し込みください．\n\n&nbsp\;\n\n一般
 セッション申込はこちら\n\n&nbsp\;\n\n企画セッション申
 込はこちら\n\n&nbsp\;\n\nポスターセッション申込はこち
 ら\n\n&nbsp\;\n\n（ポスターセッション申込の方へ）\n発表
 申込時以下の点にご注意ください.\n1）希望セッション
 は，「26.ポスターセッション」を選択してください.\n2
 ）会誌への投稿については，「希望しない」を選択し
 てください.\n3）発表申込時に提出いただく発表内容要
 旨（200 文字以内）をプログラムを兼ねた形式で公開・
 配布します．\n\n&nbsp\;\n\n〔発表申込締切日〕2025年４月1
 5 日（火）（厳守）　2025年４月25 日（金）17:00まで締切
 を延長します。\n\n&nbsp\;\n\n〔原稿締切日〕2025年６月16 
 日（月）（厳守）\n＊期日までに未提出の場合は，発表
 を取り消すこともあります．\n＊ポスター発表申込の方
 は講演論文の提出は必要ございません．\n\n&nbsp\;\n\n〔
 原稿送付先〕\n＊PDF化した原稿を「講演論文投稿フォー
 ム」にアップロードしてください。\n\n&nbsp\;\n\n※「講
 演論文投稿フォーム」にアップロードできない場合は
 ，Eメールに添付してエネルギー・資源学会事務局まで
 提出することもできますが，メールの件名は，「（発
 表番号）氏名」としてください（エネルギー・資源学
 会論文誌の研究論文・技術論文として同時に投稿する
 場合は「（発表番号）氏名（同時投稿）」としてくだ
 さい）．\nE-mail送付先：ken-happyo@jser.gr.jp\n\n&nbsp\;\n\n〔問
 合せ先〕\n\n問合せはこちらよりお願いします．
CATEGORIES:研究発表会
END:VEVENT
BEGIN:VTIMEZONE
TZID:Asia/Tokyo
X-LIC-LOCATION:Asia/Tokyo
BEGIN:STANDARD
DTSTART:20240804T000000
TZOFFSETFROM:+0900
TZOFFSETTO:+0900
TZNAME:JST
END:STANDARD
END:VTIMEZONE
END:VCALENDAR