BEGIN:VCALENDAR
VERSION:2.0
PRODID:-//wp-events-plugin.com//7.2.2.1//EN
TZID:Asia/Tokyo
X-WR-TIMEZONE:Asia/Tokyo
BEGIN:VEVENT
UID:158@jser.gr.jp
DTSTART;TZID=Asia/Tokyo;VALUE=DATE:20240130
DTEND;TZID=Asia/Tokyo;VALUE=DATE:20240201
DTSTAMP:20240122T013727Z
URL:https://www.jser.gr.jp/events/40enecon_program/
SUMMARY:第40回エネルギーシステム・経済・環境コンファ
 レンス プログラム
DESCRIPTION:時間・セッション名一覧\n印刷用PDFはこちら\n&n
 bsp\;\n\n\n\n〔日時〕2024年1月30日（火）09：30～16：10／1月
 31日（水）10：00～17：00\n〔会場〕東京大学　生産技術
 研究所（駒場Ⅱキャンパス）\n\n\n１月30日（火）\n\n9：0
 0受付開始\n\n\n09：30～11：30　セッション１　 水素　　
 会場：An301・302\n\n\n１－１\n水電解装置の最適設計・運
 用に基づく環境性および経済性の評価\n\n\n\n〇田山　真
 史，吉田　彬，鷲津　明由，天野　嘉春（早稲田大学
 ）\n\n\n１－２\n４種類の普及可能な水電解装置の経済性
 検討及びユースケースの提案\n\n\n\n〇川井　英司（東京
 大学），小澤　暁人（産業技術総合研究所），松橋　
 隆治（東京大学）\n\n\n１－３\n離島における地産地消型
 水素利活用の先行事例調査 －英国オークニー諸島の知
 見と課題－\n\n\n\n〇山田　智之，坂東　茂（電力中央研
 究所）\n\n\n１－４\n中国の2060年の水素エネルギー消費
 量の推計\n\n\n\n〇劉　華偉（千葉大学）\n\n\n１－５\nThe 
 Impact of CO2 Intensity on Water Consumption for Hydrogen Production\n\n\n
 \n〇Juan C González Palencia，関根　優右，荒木　幹也（群
 馬大学）\n\n\n１－６\nBlue hydrogen production from iron and steel-
 making process\n\n\n\n〇岸本　啓，三浦　真一（神戸製鋼所
 ）\, Muhammad Aziz（東京大学）\, Benjamin C. McLellan（京都大
 学）\n\n\n09：30～11：30　セッション２　 地域エネルギ
 ー需給（1）　　会場：An401・402\n\n\n\n２－１\n小・中規
 模自治体におけるゼロカーボン行動計画の策定プロセ
 スの分析\n\n\n\n〇藤井　裕加（東京工業大学），藤野　
 純一（地球環境戦略研究機関），時松　宏治（東京工
 業大学）\n\n\n２－２\n地域脱炭素の動向分析 －脱炭素
 先行地域を対象に－\n\n\n\n〇藤野　純一（地球環境戦略
 研究機関），藤井　裕加，時松　宏治（東京工業大学
 ），赤木　純子，田中　勇伍（地球環境戦略研究機関
 ）\n\n\n２－３\n地域・個人属性を考慮した再生可能エネ
 ルギーとEVの導入シミュレーション\n\n\n\n〇岡野　礼夢
 ，秋元　祐太朗，岡島　敬一（筑波大学）\n\n\n２－４\n
 1\,741市区町村を統合した分散協調型・脱炭素エネルギ
 ーシステムの設計と解析\n\n\n\n〇小野寺　弘晃，Delage R
 émi，中田　俊彦（東北大学）\n\n\n２－５\n太陽光発電
 所とハザードマップのオーバーレイ解析\n\n\n\n〇島崎　
 洋一（山梨大学）\n\n\n２－６\n複数の脱炭素燃料を考慮
 した市区町村スケールでの脱炭素シナリオ分析 －福岡
 県北九州市を対象として－\n\n\n\n〇伊藤　悠太（滋賀県
 立大学），白木　裕斗（名古屋大学）\n\n\n09：30～11：30
 　セッション３　地球温暖化（1）　　会場：As303・304\n
 \n\n\n３－１\n脱炭素実現に向けたイノベーション・ファ
 イナンスの在り方：日本のエネルギー・スタートアッ
 プと政策支援の影響\n\n\n\n〇岩田　紘宜，杉山　昌広，
 田中　謙司，久保　光太郎（東京大学）\n\n\n３－２\n個
 人の行動変容を促す移動の脱炭素アプリの実証事業と
 今後の展開可能性\n\n\n\n〇加藤　康人，野村　恭子，中
 井　彩子（Linkhola）\n\n\n３－３\nカーボンニュートラル
 実現に向けたクリーン液体燃料の役割\n\n\n\n〇小澤　暁
 人，工藤　祐揮（産業技術総合研究所）\n\n\n３－４\n1.5
 ℃目標達成に向けたエネルギー需給に関わるシナリオ
 分析\n\n\n\n〇田中　勇伍，栗山　昭久，岩田　生，田村
 　堅太郎（地球環境戦略研究機関）\n\n\n３－５\n世界の
 温室効果ガスおよび短寿命気候強制因子の早期大幅削
 減シナリオの探索\n\n\n\n〇花岡　達也（国立環境研究所
 ），平山　智樹，後藤　友里絵，大田　宇春，滝見　
 真穂，元木　悠子（みずほリサーチ&amp\;テクノロジー
 ズ），川島　一真，植田　洋行，片桐　究（三菱UFJリ
 サーチ&amp\;コンサルティング），張　潤森（東京大学
 ），スィルバ エラン ディエゴ，金森　有子，日比野　
 剛（国立環境研究所）\n\n\n３－６\n海外排出量取引制度
 からGX ETSへのインプリケーション\n\n\n\n〇清水　透，小
 松　潔，柳　美樹，陳　奕均，小川　元無，金　星姫
 （日本エネルギー経済研究所）\n\n\n09：30～11：30　セッ
 ション４　 省エネルギー・エネルギー貯蔵・ヒートポ
 ンプ　　会場：As311・312\n\n\n\n４－１\n冷熱蓄熱システ
 ムの実時間最適制御による電力系統安定化への貢献に
 関する研究\n\n\n\n〇水野　竣介，前　匡鴻，松橋　隆治
 （東京大学）\n\n\n４－２\nテレマティクスを用いた自動
 車からのCO2排出量の推定と削減可能性の評価\n\n\n\n〇前
 　匡鴻，王　子洋（東京大学），西村　将麻（あいお
 いニッセイ同和損害保険），松橋　隆治（東京大学）\n
 \n\n４－３\n再エネ主力電力市場における蓄熱発電技術
 の経済性分析\n\n\n\n〇八木　賢治郎（特種東海製紙），
 Ramteen Sioshansi（Carnegie Mellon University）\n\n\n４－４\nZEB化
 に伴う太陽光発電の発電電力量の推計\n\n\n\n〇廣瀬　梨
 乃，時松　宏治（東京工業大学）\n\n\n４－５\n建築材料
 の製造に関するCO2排出量の算出および工法の異なる高
 断熱住宅のLCCO2の比較\n\n\n\n〇新城　有布菜，近本　智
 行（立命館大学），土井　脩史（大阪公立大学），清
 水　敦夫（イノアックコーポレーション）\n\n\n４－６\n
 NLTを用いたコンテナ空間の環境負荷に関する研究\nその
 １　NLTコンテナの概要と建設・運用段階のCO2排出量の
 試算\n\n\n\n〇長谷川　兼一，大和　頌（秋田県立大学）
 ，大橋　修，新井　里佳（三井ホーム）\n\n\n09：30～11
 ：30　セッション５ 　エネルギー政策・防災・原子力
 　　会場：As313・314\n\n\n５－１\n環境政策の不確実性を
 考慮した多段階確率計画法による最適エネルギー計画
 に関する分析\n\n\n\n〇宮嵜　颯人，藤井　康正，小宮山
 　涼一（東京大学）\n\n\n５－２\nフランスにおける原子
 力バックエンド事業の資金確保 －「専用資産」の考え
 方と課題を中心に－\n\n\n\n〇服部　徹（電力中央研究所
 ）\n\n\n５－３\n需要家資源の動的な融通優先度管理によ
 る共助型レジリエンス性能の改善\n\n\n\n〇飯野　穣，林
 　泰弘（早稲田大学）\n\n\n５－４\n災害下における病院
 建物における電力需要および電力需給バランスの見積
 もり\n\n\n\n〇川井　優佑，上道　茜（早稲田大学）\n\n\n
 ５－５\n家庭部門における地球温暖化対策計画を用いた
 新たな進捗評価手法の検討\n\n\n\n〇中村　仁明（三菱UFJ
 リサーチ＆コンサルティング）\n\n\n５－６\n電力需要家
 における蓄電池・燃料電池・太陽光発電を用いた停電
 時電力自給に関する研究\n\n\n\n〇松原　雅，松橋　隆治
 （東京大学）\n\n\n12：30～14：10　セッション６ 　EV・交
 通　　会場：An301・302\n\n\n\n６－１\n電気自動車の充電
 による変電所への負荷の推定（移動需要の空間分布に
 基づく予備検討）\n\n\n\n〇片岡　良介，日高　健，西　
 智樹（豊田中央研究所）\n\n\n６－２\n双方向自宅給電器
 の選択を考慮した電気自動車普及モデル\n\n\n\n〇東谷　
 拓弥（東京農工大学，IIASA），Paul Kishimoto（IIASA），原
 　卓也（IIASA，トヨタ自動車），秋澤　淳（東京農工大
 学）\n\n\n６－３\n市場価格連動契約における電気バスの
 V2Gを活用したデマンドレスポンスの事業性評価\n\n\n\n〇
 阿部　圭佑，前　匡鴻，松橋　隆治（東京大学）\n\n\n
 ６－４\n次世代電池を考慮したEVのバッテリー特性向上
 が及ぼすライフサイクルCO2排出への影響評価\n\n\n\n〇佐
 久間　佑希，秋元　祐太朗，岡島　敬一（筑波大学）
 ，山本　博巳，池谷　知彦（電力中央研究所）\n\n\n６
 －５\nデマンドレスポンス資源量の不確実性を考慮した
 電力システム分析 ～貨物車と乗用車の違いに着目して
 ～\n\n\n\n〇國武　星佑（滋賀県立大学），白木　裕斗（
 名古屋大学）\n\n\n12：30～13：50　セッション７ 　国際
 エネルギー需給　　会場：An401・402\n\n\n\n７－１\n中国NE
 V目標規制とクレジット取引制度の2023年改正の概要と影
 響\n\n\n\n〇李　志東（長岡技術科学大学）\n\n\n７－２\n
 中国における再生可能エネルギー電源の主力電源化と
 安定供給の両立に関する一考察\n\n\n\n〇李　志東（長岡
 技術科学大学）\n\n\n７－３\nロシアのウクライナ侵攻（
 2022年）と韓国のエネルギーの安定供給に向けた政策の
 変化\n\n\n\n〇朴　ジョンミン（名古屋学院大学）\n\n\n７
 －４\nMacro-level energy demand modeling of telecommunication\nnetwork i
 n Indonesia\n\n\n\n〇Mochamad Mardi Marta Dinata，山口　容平，内
 田　英明，下田　吉之（大阪大学）\n\n\n12：30～14：10　
 セッション８ 　地球温暖化（2）　　会場：As303・304\n\n
 \n\n８－１\nThe Assessment of 2030 Nationally Determined Contribution
 （ NDC） Targets of Japan\, South Korea and China Focusing on Industrial
  Impacts\n\n\n\n〇KANG Dahyun，本間　隆嗣，長島　美由紀，
 秋元　圭吾（地球環境産業技術研究機構）\n\n\n８－２\n
 世界貨物運輸における緩和策と低エネルギー需要社会
 の実現機会\n\n\n\n〇中野　優子，佐野　史典，秋元　圭
 吾（地球環境産業技術研究機構）\n\n\n８－３\n米国イン
 フレ抑制法による費用と便益の評価に関する考察\n\n\n\n
 〇大西　尚子，秋元　圭吾（地球環境産業技術研究機
 構）\n\n\n８－４\n世界エネルギーモデルを用いた蓄熱発
 電技術の評価\n\n\n\n〇安藤　輝尚，佐野　史典，秋元　
 圭吾（地球環境産業技術研究機構）\n\n\n８－５\nIPCC第
 ６次評価報告書の排出削減ポテンシャルとコストの検
 証\n\n\n\n〇秋元　圭吾，安藤　輝尚，佐野　史典，長島
 　美由紀（地球環境産業技術研究機構）\n\n\n12：30～14
 ：10　セッション９ 　エネルギー経済（1）　　会場：A
 s311・312\n\n\n\n９－１\n電源構成モデルと産業連関分析モ
 デルの統合化 －水素利用とロボット導入時の技術導入
 を含む日本の2050年多部門モデルの動学化\n\n\n\n〇森　
 俊介（東京理科大学）\n\n\n９－２\nクリーンエネルギー
 関連製品の輸出競争力の分析\n\n\n\n〇星野　優子（ENEOS
 ），小川　順子（日本エネルギー経済研究所）\n\n\n９
 －３\n家庭CO2統計を用いた地域別エネルギー需要分析と
 炭素価格政策への示唆\n\n\n\n〇小川　順子（日本エネル
 ギー経済研究所），星野　優子（ENEOS）\n\n\n９－４\n電
 力部門を詳細化した応用一般均衡モデルを用いた分散
 型エネルギーの地域経済効果に関する定量的分析\n\n\n\n
 〇西倉　寛太，小宮山　涼一，藤井　康正（東京大学
 ）\n\n\n９－５\nエネルギーシステムモデルを用いた2050
 年の貨物トラック輸送技術の影響評価（2）\n－貨物ト
 ラック電動化シナリオの検討－\n\n\n\n〇井上　智弘，加
 藤　悦史，黒沢　厚志（エネルギー総合工学研究所）\n
 \n\n12：30～13：50　セッション10 　＜企画セッション＞
 家庭部門のCO2排出実態統計調査　　会場：As313・314\n\n\n
 10－１\n家庭部門CO2排出統計における地方別エネルギー
 消費構造の解明に関する研究\n\n\n\n〇吉田　友紀子（茨
 城大学），平野　勇二郎，一ノ瀬　俊明（国立環境研
 究所）\n\n\n10－２\n家庭CO2統計の個票データを用いたHEMS
 導入世帯の特徴や省エネ効果の分析\n\n\n\n〇西尾　健一
 郎，山田　愛花，後藤　久典（電力中央研究所）\n\n\n10
 －３\n光熱費データから冷蔵庫を分離する統計モデルの
 研究\n\n\n\n〇田中　昭雄（熊本県立大学）\n\n\n10－４\n
 家庭部門におけるCO2排出量の季節変化と気温感応度の
 解析\n\n\n\n〇平野　勇二郎（国立環境研究所），吉田　
 友紀子（茨城大学），吉田　崇紘（東京大学），山形
 　与志樹（慶應義塾大学）\n\n\n14：30～16：10　セッショ
 ン11 　電力システム（1）　　会場：An301・302\n\n\n\n11－
 １\n固定速揚水の可変速化がCO2削減に及ぼす影響評価\n\
 n\n\n〇矢部　邦明，林　泰弘（早稲田大学）\n\n\n11－２\
 n合成メタン価格の不確実性を踏まえた2050年電源構成に
 関する考察\n\n\n\n〇大和久　崇，秋澤　淳（東京農工大
 学）\n\n\n11－３\n電力系統を考慮したマルチエージェン
 ト強化学習型電力市場モデル開発とLMP価格・入札行動
 の分析\n\n\n\n〇香川　寛多，小宮山　涼一，藤井　康正
 （東京大学）\n\n\n11－４\n地域新電力を対象とした電源
 ポートフォリオ分析モデルの開発\n\n\n\n〇小澤　暁人（
 東京大学，産業技術総合研究所），松橋　隆治（東京
 大学）\n\n\n11－５\nリアルタイム運用における系統調整
 力発動を考慮した需要家ポートフォリオの設計\n\n\n\n〇
 森田　雄介，安芸　裕久（筑波大学）\n\n\n14：30～16：10
 　セッション12 　部門別エネルギー需要（1）　　会場
 ：An401・402\n\n\n\n12－１\n家庭部門における温室効果ガス
 削減目標に向けた省エネルギーシナリオに関する分析\n
 \n\n\n〇中西　利樹，石原　沙莉，下田　吉之（大阪大
 学）\n\n\n12－２\nライフスタイルと住宅エネルギー需要
 の関連分析\n\n\n\n〇正野　景大，山口　容平，内田　英
 明，下田　吉之（大阪大学）\n\n\n12－３\n高精細なスマ
 ートメータデータを活用した逆問題解析による住民行
 動の全自動モデリング\n\n\n\n〇西澤　一輝，内田　英明
 ，下田　吉之，山口　容平（大阪大学），十川　和也
 （関西電力）\n\n\n12－４\nHEMSデータを活用したGMM-HMMに
 よる居住者行動の同定\n\n\n\n〇内田　英明，湯浅　仁貴
 ，山口　容平，下田　吉之（大阪大学）\n\n\n12－５\nHEMS
 データを利用したV2H充電器の効率推計\n\n\n\n〇岩船　由
 美子，河合　俊明（東京大学）\n\n\n14：30～16：10　セッ
 ション13 　地球温暖化（3）　　会場：As303・304\n\n\n\n13
 －１\nカーボンニュートラルに向けた日本のエネルギー
 セキュリティ指標の考察と評価\n\n\n\n〇長島　美由紀，
 佐野　史典（地球環境産業技術研究機構），小田　潤
 一郎（秋田大学），秋元　圭吾，安藤　輝尚（地球環
 境産業技術研究機構）\n\n\n13－２\n世界エネルギー経済
 モデルを用いた，カーボンニュートラル目標に関する
 経済影響分析\n\n\n\n〇本間　隆嗣，佐野　史典，秋元　
 圭吾（地球環境産業技術研究機構）\n\n\n13－３\n地球温
 暖化対策評価モデルによるカーボンニュートラルに向
 けたトランジションにおける需要部門の電化の役割の
 分析\n\n\n\n〇佐野　史典，秋元　圭吾，Jubair SIEED（地球
 環境産業技術研究機構）\n\n\n13－４\nカーボンニュート
 ラルに向けた鉱物資源をめぐる動向と課題\n\n\n\n〇林　
 礼美，佐野　史典，長島　美由紀，秋元　圭吾（地球
 環境産業技術研究機構）\n\n\n13－５\nカーボンアカウン
 ティング規格開発の動向と課題\n\n\n\n〇和田　謙一（地
 球環境産業技術研究機構）\n\n\n14：30～16：10　セッショ
 ン14 　エネルギー経済（2）　　会場：As311・312\n\n\n\n14
 －１\n日本卸電力取引所における時間前市場の平均価格
 予測に関する研究\n\n\n\n〇吉本　匠，蔡　思楠，前　匡
 鴻，松橋　隆治（東京大学）\n\n\n14－２\n系統需給解析
 に基づく家庭用分散電源の最適制御による社会的便益
 の評価\n\n\n\n〇具　利晟，渡辺　健一，馬場　朗（パナ
 ソニック），岩船　由美子，荻本　和彦（東京大学）\n
 \n\n14－３\n自然言語処理技術を活用した企業のCN戦略定
 量化手法に関する研究\n\n\n\n〇後藤　良介（滋賀大学）
 \n\n\n14－４\n再生可能電源比率60%と石炭火力廃止の可能
 性をめぐる検討，簡易モデルによる試算\n\n\n\n〇竹濱　
 朝美（立命館大学），歌川　学（産業技術総合研究所
 ）\n\n\n14－５\n傾向スコアによる太陽光発電と火力発電
 のエリアプライスへの影響分析\n\n\n\n〇堀井　博夫，倉
 橋　節也（筑波大学）\n\n\n\n\n\n\n\n\n\n\n＜特別講演会＞
 　会場：An棟 ２階　コンベンションホール\n\n＊16：30～
 16：40　会長挨拶\n＊16：40～17：40　特別講演\n「東京電
 力パワーグリッドが目指す市場主導型のネットワーク
 運用」\n…東京電力パワーグリッド株式会社　事業開発
 室部長（DSO/DMO開発担当）　小林　直樹　氏\n（司会）
 松橋　隆治（エネルギー・資源学会　企画担当理事）\n
 \n＜技術交流会＞　会場：An棟１階 ape cucina naturale\n\n＊1
 8：00～19：30\n\n\n\n\n\n\n\n\n\n\n１月31日（水）\n\n9：30受付
 開始\n\n\n10：00～11：20　セッション15 　電力システム（
 2）　　会場：S棟 プレゼンテーションルーム\n\n\n15－１
 \n気象再解析データを活用した将来系統モデルの再エネ
 ・需要の模擬方法\n\n\n\n〇下尾　高廣，東野　正和，山
 嵜　朋秀，矢口　航太（東芝エネルギーシステムズ）
 ，荻本　和彦，岩船　由美子（東京大学）\n\n\n15－２\n
 需給運用シナリオによる系統慣性低下の特性分析\n\n\n\n
 〇瀬川　周平，荻本　和彦（東京大学），東　仁，礒
 永　彰（J-Powerビジネスサービス）\n\n\n15－３\nDCOPF付電
 力需給解析による隣接エリアの送電網運用の分析\n\n\n\n
 〇荻本　和彦，岩船　由美子，片岡　和人，瀬川　周
 平（東京大学），東　仁，礒永　彰，岡本　高志，福
 留　潔（J-POWERビジネスサービス）\n\n\n15－４\n将来の電
 力システムにおけるSystem Strengthの課題と対応\n\n\n\n〇荻
 本　和彦，岩船　由美子（東京大学）\n\n\n15－５\n発表
 中止\n\n\n10：00～12：00　セッション16 　部門別エネルギ
 ー需要（2）　　会場：An401・402\n\n\n16－１\nProspects of reg
 ional supply chain relocation for iron &amp\; steel industry decarbonizati
 on：\na case study of Japan and Australia\n\n\n\n〇Tao CAO，杉山　
 昌広（東京大学），Yiyi JU（早稲田大学）\n\n\n16－２\nテ
 レワーク導入によるCO2削減効果のマクロ評価\n\n\n\n〇平
 野　勇二郎，金森　有子（国立環境研究所），玄　姫
 ，水谷　傑（住環境計画研究所），井原　智彦（東京
 大学），吉田　友紀子（茨城大学）\n\n\n16－３\n時空間
 の負荷分散を考慮したデータセンターのデマンドレス
 ポンスの評価\n\n\n\n〇直井　宏樹，Rémi Delage，中田　俊
 彦（東北大学）\n\n\n16－４\nLong Term Electricity Demand and Hour
 ly Load Forecasting for Countries of the World\n\n\n\n〇SIEED Jubair，
 安藤　輝尚，中野　優子，望月　則孝，佐野　史典，
 秋元　圭吾（地球環境産業技術研究機構）\n\n\n16－５\n
 ボトムアップモデルを用いた業務部門2030年二酸化炭素
 排出量削減目標達成可能性の評価\n\n\n\n〇西島　拓海，
 山口　容平，張　煦康，篠原　里穂子，林　優羽，内
 田　英明，下田　吉之（大阪大学）\n\n\n16－６\n中山間
 地域の地域再設計を視野に入れた脱炭素化対策に関す
 る研究\nその３：岡山県真庭市における脱炭素化シナリ
 オの構築と将来CO2排出削減効果の評価\n\n\n\n〇郝　希玥
 ，鳴海　大典（岡山大学）\n\n\n10：00～11：40　セッショ
 ン17 　地球温暖化（4）　　会場：As303・304\n\n\n\n17－１\
 nカーボンニュートラルに整合的な「食」の検討\n\n\n\n
 〇木村　宰，坂本　将吾（電力中央研究所），杉山　
 昌広（東京大学）\n\n\n17－２\n持続可能な食へのトラン
 ジションは可能か？　トランジション理論に基づく検
 討\n\n\n\n〇木村　宰（電力中央研究所），杉山　昌広（
 東京大学）\n\n\n17－３\n日本のネットゼロ達成のための
 二酸化炭素除去：シナリオと政策ミックス\n\n\n\n〇杉山
 　昌広（東京大学），大城　賢（京都大学），大槻　
 貴司（横浜国立大学），加藤　悦史（エネルギー総合
 工学研究所），木村　宰（電力中央研究所），冨田　
 哲也（E-konzal），西浦　理，藤森　真一郎（京都大学）
 ，松尾　雄司（立命館アジア太平洋大学），和田　謙
 一（地球環境産業技術研究機構）\n\n\n17－４\nアジア域
 におけるSLCFsの削減対策効果の定量評価 －中国・イン
 ドを例にして－\n\n\n\n〇平山　智樹，後藤　友里絵（み
 ずほリサーチ＆テクノロジーズ），日比野　剛，花岡
 　達也（国立環境研究所）\n\n\n17－５\nブラックカーボ
 ンの対策遅延がもたらす影響 －タイを例にして－\n\n\n\
 n〇後藤　友里絵，平山　智樹（みずほリサーチ＆テク
 ノロジーズ），花岡　達也，日比野　剛（国立環境研
 究所）\n\n\n10：00～12：00　セッション18 　廃棄物・その
 他資源　　会場：As313・314\n\n\n\n18－１\n廃棄物処理施設
 を核とする炭素循環システムの数理最適化モデルの開
 発及び分析\n\n\n\n〇長野　尚也，永友　佑，山本　圓，
 井伊　亮太（パシフィックコンサルタンツ）\n\n\n18－２
 \n鉱物資源を考慮したエネルギー技術選択モデルによる
 クリーンエネルギー導入可能性に関する分析\n\n\n\n〇藤
 原　陸，小宮山　涼一，藤井　康正（東京大学）\n\n\n18
 －３\n廃プラスチックエネルギー有効利用のための総合
 熱利用システム評価技術の開発\n～第１報 オフライン
 熱輸送の大都市エリアでの評価事例～\n\n\n\n〇谷野　正
 幸，増田　正夫，鎌田　美志（高砂熱学工業）\n\n\n18－
 ４\n廃プラスチックエネルギー有効利用のための総合熱
 利用システム評価技術の開発\n～第２報　離島エリアで
 の評価事例～\n\n\n\n〇増田　正夫，谷野　正幸，鎌田　
 美志（高砂熱学工業）\n\n\n18－５\n高含水バイオマス資
 源利活用に向けた下水汚泥燃料化の検討およびエネル
 ギー・CO2排出評価\n\n\n\n〇山本　薫平，秋元　祐太朗，
 岡島　敬一（筑波大学）\n\n\n18－６\nリチウムを希薄溶
 液から直接回収する為の３電源４電極式電気透析法\n\n\
 n\n〇新村　潔人，佐々木　一哉（弘前大学）\n\n\n13：00
 ～15：00　セッション19 　電力システム（3）　　会場：
 S棟 プレゼンテーションルーム\n\n\n\n19－１\n複数地点の
 太陽光発電を対象としたエリア規模における短周期変
 動抑制制御\n\n\n\n〇占部　千由，加藤　丈佳（名古屋大
 学）\n\n\n19－２\nPV 余剰電力によるEV 充電増加のための
 日積算日射量に応じた充電促進時間帯の導入効果\n\n\n\n
 〇渡邉　雅俊，占部　千由，加藤　丈佳（名古屋大学
 ）\n\n\n19－３\n再エネ主力電源時の地域エネルギー需給
 バランス佳を考慮した電力システム増強に関する一検
 討\n\n\n\n〇志村　征輝，占部　千由，加藤　丈佳（名古
 屋大学）\n\n\n19－４\nResilience oriented optimization framework for
  solar district heating systems\n\n\n\n〇Thomas Boutron，Rémi Delage 
 ，中田　俊彦（東北大学）\n\n\n19－５\nDesign of an Integrate
 d Energy System in Palestine\n\n\n\n〇Mahdi ABUHOMOS，Rémi DELAGE，中
 田　俊彦 （東北大学）\n\n\n19－６\nUsing temporal aggregation 
 to reduce computational needs of near-optimal feasible space of renewable 
 energy system models\n\n\n\n〇Eva Simarik，Rémi DELAGE，中田　俊
 彦（東北大学）\n\n\n13：00～15：00　セッション20 　地域
 エネルギー需給（2）　　会場：An401・402\n\n\n20－１\n地
 域脱炭素化検討におけるエネルギー需要想定に使用可
 能なデータの調査\n\n\n\n〇山口　容平，重松　朋生，内
 田　英明，下田　吉之（大阪大学）\n\n\n20－２\n時間領
 域分解に基づくエネルギー貯蔵・供給システムの長期
 間運用計画（機器容量の感度分析への適用）\n\n\n\n〇張
 　博雲，涌井　徹也（大阪公立大学）\n\n\n20－３\nサロ
 ゲートモデルを援用したエネルギー貯蔵・供給システ
 ムの多目的最適設計\n\n\n\n〇青地　駿太，張　博雲，涌
 井　徹也（大阪公立大学）\n\n\n20－４\n分散蓄電池を活
 用した電力融通ネットワークの協調運用計画\n\n\n\n〇大
 塚　直弥，張　博雲，涌井　徹也（大阪公立大学）\n\n\
 n20－５\nEnergy Demand Modelling Methods for Urban-scale Energy\nManagem
 ent: A Review\n\n\n\n〇殷　如夢，山口　容平，下田　吉之
 （大阪大学）\n\n\n20－６\n再生可能エネルギー需給型コ
 ミュニティ－エネルギー需要形成シナリオと需要デー
 タの制作\n\n\n\n〇杉本　一郎（エネルギー・生活科学研
 究所），古谷　瑞樹，石田　政義（筑波大学）\n\n\n13：
 00～14：20　セッション21 　地球温暖化（5）　　会場：A
 s303・304\n\n\n\n21－１\n太陽光発電技術に関するライフサ
 イクルエコロジカル・フットプリント分析：森林地，
 農地，建設用地を含む\n\n\n\n〇黄　麗蕊（同志社大学）
 \n\n\n21－２\n2015年建設部門産業連関表誘発CO2排出原単位
 分析　その７\n\n\n\n〇村橋　喜満（日鉄物産），外岡　
 豊（埼玉大学）\n\n\n21－３\n2015年建設部門産業連関表誘
 発CO2排出原単位分析　その８\n\n\n\n〇外岡　豊（埼玉大
 学），村橋　喜満（日鉄物産）\n\n\n21－４\n日本におけ
 る正確な温室効果ガス排出量算定と利用について　そ
 の５\n\n\n\n〇外岡　豊（埼玉大学），平野　勇二郎（国
 立環境研究所），吉田　友紀子（茨城大学），田中　
 昭雄（熊本県立大学），長谷川　兼一（秋田県立大学
 ），松原　斎樹（京都府立大学），山崎　政人（日本
 環境技研），依田　浩敏（近畿大学）\n\n\n13：00～14：20
 　セッション22　再生可能エネルギー（1）　　会場：As
 313・314\n\n\n\n22－１\n再生可能エネルギー利用の面的拡
 大のためのソーシャル・イノベーション\n\n\n\n〇鷲津　
 明由，野津　喬（早稲田大学），上野　裕士（内外エ
 ンジニアリング），本田　恭子（岡山大学），森本　
 英嗣（三重大学），渡辺　貴史（長崎大学）\n\n\n22－２
 \n環境価値の取引に伴う太陽光発電設備の導入や排出に
 よる影響の分析\n\n\n\n〇松岡　賢，村上　進亮（東京大
 学）\n\n\n22－３\nOn the Impact of Data Availability on the Calculatio
 n of Replacement Reserve for Fit：A Case Study Based on Three Years of Da
 ta\n\n\n\n〇Joao G. S. Fonseca Jr.（東京大学），竹内　知哉（
 千葉工業大学），堀　立磨（中部電力パワーグリッド
 ），荻本　和彦（東京大学）\n\n\n22－４\n全国市区町村
 を対象とした屋根上PV＋EVシステム導入による脱炭素化
 ポテンシャルの分析\n\n\n\n〇岡田　瑚春，杉山　悠聖，
 小端　拓郎（東北大学）\n\n\n15：20～16：40　セッション
 23 　電力システム（4）　　会場：S棟 プレゼンテーシ
 ョンルーム\n\n\n\n23－１\n機械学習と説明可能AIによる電
 力需要の要因分析\n\n\n\n〇下村　瑞枝，キーリー アレ
 クサンダー 竜太，馬奈木　俊介（九州大学）\n\n\n23－
 ２\nオープンソースソフトウェアベースのエネルギーシ
 ステム最適化のための多地域モデル構築とその改善\n\n\
 n\n〇杉田　幸弘，稗方　和夫（東京大学）\n\n\n23－３\n
 住宅共同体に対する補償制度を考慮した集合住宅の統
 合電力管理システム\n\n\n\n〇趙　珉徹，安芸　裕久（筑
 波大学）\n\n\n23－４\n発表中止\n\n\n23－５\nインバランス
 削減と調整力取引を実現するDER制御手法の開発\n\n\n\n〇
 生田　海志郎，安芸　裕久（筑波大学）\n\n\n15：00～17
 ：00　セッション24 　エネルギー教育・環境問題一般　
 　会場：As303・304\n\n\n\n24－１\n大規模言語モデルによる
 物語生成と環境コミュニケーションに関する研究\n\n\n\n
 〇秋本　哲夫，前　匡鴻，松橋　隆治（東京大学）\n\n\
 n24－２\n脱炭素に向けた未来創造の担い手としての市民
 の再定位を目指す市民参画手法の試み\nその２：市民ア
 ンケートから見る脱炭素とまちづくりに関する市民の
 認識\n\n\n\n〇大塚　彩美（東京大学），鳴海大典（岡山
 大学）\n\n\n24－３\n高校生を対象にした省エネルギー行
 動のアンケート調査\n\n\n\n〇李　斯文，島崎　洋一（山
 梨大学）\n\n\n24－４\n食品ロス削減にむけた環境配慮行
 動の実証研究 ―個票データに基づいた家計行動の分析\
 n\n\n\n〇程　星匀，有村　俊秀，楊　心悦（早稲田大学
 ），木方　真理子（東京電力ホールディングス）\n\n\n24
 －５\n風化促進システムの適用地選定にむけた砕石輸送
 によるCO2排出の影響評価\n\n\n\n〇今井　翔太，秋元　祐
 太朗，岡島　敬一（筑波大学），レンディ　ルスタン
 ディ（筑波大学・産業技術総合研究所），北川　直美
 ，森本　慎一郎（産業技術総合研究所）\n\n\n24－６\nTech
 no-economic Analysis of Enhanced Mineralization in Japan\n\n\n\n〇Rendi A
 hmad Rustandi，小津　翔陽，秋元　祐太朗，岡島　敬一（
 筑波大学），北川　直美，森本　慎一郎（産業技術総
 合研究所）\n\n\n15：00～16：00　セッション25　再生可能
 エネルギー（2）　　会場：As313・314\n\n\n\n25－１\n洋上
 風力発電システムの多様な評価軸によるデザイン手法
 に関する研究\n\n\n\n〇小幡　一輝，木村　和峰（トヨタ
 自動車），稗方　和夫（東京大学）\n\n\n25－２\nEstimation
  of the global energy potential of onshore wind based on hourly data\n\n\n
 \n〇SILVA HERRAN Diego（国立環境研究所）\n\n\n25－３\n欧州
 における洋上風力発電施設のプロジェクト単価に関す
 る分析\n\n\n\n〇小田　潤一郎（秋田大学），朝野　賢司
 （電力中央研究所）\n\n\n25－４\n発表中止\n\n\n\n&nbsp\;\n\n
 ＜時間・セッション名＞\n１月30日（火）\n\n\n\nAn301・302
 \nAn401・402\nAs303・304\nAs311・312\nAs313・314\n\n\n９：30～11：
 30\nセッション１：\n水素\n９：30～11：30\nセッション２
 ：\n地域エネルギー\n需給（1）\n９：30～11：30\nセッシ
 ョン３：\n地球温暖化（1）\n９：30～11：30\nセッション
 ４：\n省エネルギー・エネルギー貯蔵・\nヒートポンプ\
 n９：30～11：30\nセッション５：\nエネルギー政策・防災
 ・原子力\n\n\n11：30～12：30　　昼　　　　　　食\n\n\n12
 ：30～14：10\nセッション６：\nEV・交通\n12：30～13：50\n
 セッション７：\n国際エネルギー需給\n12：30～14：10\nセ
 ッション8：\n地球温暖化（2）\n12：30～14：10\nセッショ
 ン9：\nエネルギー経済（1）\n12：30～13：50\nセッション1
 0：\n&lt\;企画セッション&gt\;\n家庭部門のCO2\n排出実態統
 計調査\n\n\n14：10～14：30　　休　　　　　　憩\n\n\n14：3
 0～16：10\nセッション11：\n電力システム（1）\n14：30～16
 ：10\nセッション12：\n部門別エネルギー\n需要（1）\n14
 ：30～16：10\nセッション13：\n地球温暖化（3）\n14：30～1
 6：10\nセッション14：\nエネルギー経済（2）\n\n\n\n\n&nbsp\
 ;\n\n［特別講演会］ 会場：An棟 ２階　コンベンション
 ホール\n\n＊16：30～16：40　会長挨拶\n＊16：40～17：40　
 特別講演\n「東京電力パワーグリッドが目指す市場主導
 型のネットワーク運用」\n…東京電力パワーグリッド株
 式会社　事業開発室部長（DSO/DMO開発担当）　小林　直
 樹　氏\n\n&nbsp\;\n\n［技術交流会］ 会場：An棟 １階　ape 
 cucina naturale\n＊ 18：00～19：30\n\n&nbsp\;\n\n１月31日（水）\
 n\n\n\nS棟 プレゼンテーションルーム\nAn401・402\nAs303・304
 \nAs313・314\n\n\n10：00～11：20\nセッション15：\n電力シス
 テム（2）\n10：00～12：00\nセッション16：\n部門別エネル
 ギー\n需要（2）\n10：00～11：40\nセッション17：\n地球温
 暖化（4）\n10：00～12：00\nセッション18：\n廃棄物・その
 他資源\n\n\n12：00～13：00　　昼　　　　　　食\n\n\n13：0
 0～15：00\nセッション19：\n電力システム（3）\n13：00～15
 ：00\nセッション20：\n地域エネルギー\n需給（2）\n13：00
 ～14：20\nセッション21：\n地球温暖化（5）\n13：00～14：2
 0\nセッション22：\n再生可能\nエネルギー（1）\n\n\n14：20
 ～15：00　　休　　　　　　憩\n\n\n15：20～16：40\nセッシ
 ョン23：\n電力システム（4）\n\n15：00～17：00\nセッショ
 ン24：\nエネルギー教育・環境問題一般\n15：00～16：00\n
 セッション25：\n再生可能\nエネルギー（2）\n\n\n\n（注
 ）\n・発表時間１題目20分（講演15分，討論５分）\n・○
 印は当日発表予定者，その他は共同研究者
CATEGORIES:コンファレンス
END:VEVENT
BEGIN:VTIMEZONE
TZID:Asia/Tokyo
X-LIC-LOCATION:Asia/Tokyo
BEGIN:STANDARD
DTSTART:20230130T000000
TZOFFSETFROM:+0900
TZOFFSETTO:+0900
TZNAME:JST
END:STANDARD
END:VTIMEZONE
END:VCALENDAR