BEGIN:VCALENDAR
VERSION:2.0
PRODID:-//wp-events-plugin.com//7.2.2.1//EN
TZID:Asia/Tokyo
X-WR-TIMEZONE:Asia/Tokyo
BEGIN:VEVENT
UID:35@jser.gr.jp
DTSTART;TZID=Asia/Tokyo:20210127T000000
DTEND;TZID=Asia/Tokyo:20210127T000000
DTSTAMP:20211019T053222Z
URL:https://www.jser.gr.jp/events/37enecon_program/
SUMMARY:第37回エネルギーシステム・経済・環境コンファ
 レンス プログラム
DESCRIPTION:時間・セッション名一覧\n\n\n\n\n〔日時〕2021年1
 月26日（火）10：00～17：00/1月27日（水）10：00～17：00\n
 〔会場〕オンライン開催&nbsp\;\n\n１月26日（火）\n\n\n９
 ：50受付開始\n\n\n10：00～11：40 セッション１　 地域エ
 ネルギー需給（1）\n\n\n１－１\n近似動的計画法を用い
 た地域細分化型世界エネルギーモデルの開発\n\n\n\n○谷
 　佳樹，小宮山　涼一，藤井　康正（東京大学）\n\n\n
 １－２\n沖縄電力における長期エネルギー計画及び需要
 予測\n\n\n\n○三浦　涼，長坂　研（東京農工大学）\n\n\n
 １－３\n発表中止\n\n\n１－４\nゼロカーボンシティ実現
 に向け再生可能エネルギー導入量と森林吸収量を考慮
 した市町村の温室効果ガス排出量推計\n\n\n\n○重　浩一
 郎，坂巻　隆史，西村　修（東北大学）\n\n\n１－５\n中
 国における自動車の電動化に関する一考察\n\n\n\n○李　
 志東（長岡技術科学大学）\n\n\n１－６\n中国における電
 源構成の低炭素化に関する一考察\n\n\n\n○李　志東（長
 岡技術科学大学）\n\n\n10：00～11：40 セッション２　 省
 エネルギー（1）\n\n\n２－１\n高反射率塗料による省エ
 ネルギー効果に関する研究　その2　夏季における熱流
 束ベクトルの分析について\n\n\n\n○藤澤　星，三田村　
 輝章，綱島　泰樹（前橋工科大学），勅使河原　覚（
 栄光製作所）\n\n\n２－２\nEMSのための気体用クランプオ
 ン超音波流量計に関する研究\n\n\n\n○西口　博史（関西
 電力）\n\n\n２－３\n民生業務施設における健康空調のた
 めのエネルギーマネジメント\n\n\n\n○福田　一成，太宰
 　龍太（アズビル）\n\n\n２－４\nCFD解析による管路内設
 置型下水熱回収システムの設計に関する研究\n\n\n\n○王
 　涛，納富　信（早稲田大学）\n\n\n２－５\nV2HとLiBを持
 つ実験住宅におけるエネルギー運用の検証と地域分散
 型エネルギーへの適用\n\n\n\n○盧　宏泰，近本　智行（
 立命館大学），土井　脩史（京都橘大学）\n\n\n10：00～1
 1：40　セッション３ 　地球温暖化（1）\n\n\n３－１\n2050
 年の日本経済とCO2排出量：IT革新のインパクト\n\n\n\n○
 室田　泰弘（湘南エコノメトリクス）\n\n\n３－２\nAssess
 ment of alternative pathways for Japan's 2040 emission reduction target\n\
 n\n\n○Diego SILVA HERRAN（国立環境研究所），藤森　真一郎
 （京都大学）\n\n\n３－３\n気候リスクとエネルギーイン
 フラのレジリエンス（1）　－科学的知見と気候シナリ
 オ－\n\n\n\n○筒井　純一，大庭　雅道（電力中央研究所
 ），黒沢　厚志，加藤　悦史（エネルギー総合工学研
 究所）\n\n\n３－４\n気候リスクとエネルギーインフラの
 レジリエンス（2）　－海外動向－\n\n\n\n○黒沢　厚志
 ，加藤　悦史（エネルギー総合工学研究所），筒井　
 純一，大庭　雅道（電力中央研究所）\n\n\n３－５\n日本
 における正確な温室効果ガス排出量算定と利用につい
 て\n\n\n\n○外岡　豊（埼玉大学）\n\n\n10：00～12：00 セ
 ッション４　 部門別エネルギー需要（1）\n\n\n４－１\n
 地球温暖化対策計画のマネジメントシステムに関する
 研究\n\n\n\n○的場　晴香，下田　吉之，藤原　みさき（
 大阪大学）\n\n\n４－２\nスマートメータデータを活用し
 たエネルギー最終需要推計モデルの逆問題最適化\n\n\n\n
 ○黒川　祐輔，下田　吉之，岸本　一将（大阪大学）
 ，宮本　誠文（関西電力）\n\n\n４－３\n日本全国の業務
 施設ストック経年変化を考慮したエネルギー需要推計\n
 \n\n\n○秋沢　琴音，山口　容平，金　範埈，鳴川　公
 彬，下田　吉之（大阪大学）\n\n\n４－４\n自動販売機の
 デマンドレスポンスに関する研究（第３報）夏季DR時消
 費電力基準値予測精度に関する評価\n\n\n\n○趙　宇晨（
 横浜国立大学），藤田　美和子，宮崎　博之（中部電
 力），鳴海　大典（横浜国立大学）\n\n\n４－５\n新型コ
 ロナウイルス感染防止に係る行動変容が住宅内のエネ
 ルギー・水消費に及ぼす影響　～首都圏集合住宅にお
 ける長期詳細実測データに基づく検討〜\n\n\n\n○永倉　
 直武（東京理科大学），井上　隆（東京電機大学），
 高瀬　幸造，渡辺　青岳（東京理科大学）\n\n\n４－６\n
 主要素材産業等のエネルギー需要量の分析：COVID-19の影
 響評価\n\n\n\n○小田　潤一郎，秋元　圭吾（地球環境産
 業技術研究機構）\n\n\n13：00～14：40　セッション５ 　
 地域エネルギー需給（2）\n\n\n５－１\n様々な制約条件
 下での，スマートグリッドにおける起動停止問題に関
 する研究\n\n\n\n○須永　康太，長坂　研（東京農工大学
 ）\n\n\n５－２\n様々な状況下における独立したマイクロ
 グリッドの信頼性に関する研究\n\n\n\n○矢内　幸希，長
 坂　研（東京農工大学）\n\n\n５－３\n電気と熱をハイブ
 リッドとした中規模マイクログリッドの構築及び運用
 システム開発\n\n\n\n○小口　情ハート，長坂　研（東京
 農工大学）\n\n\n５－４\n分散型エネルギー資源の相互エ
 ネルギー融通による環境価値の評価\n\n\n\n○飯野　穣，
 林　泰弘（早稲田大学）\n\n\n５－５\n太陽光発電と電気
 自動車を用いた電力融通ネットワークの2段階確率運用
 計画\n\n\n\n○涌井　徹也，井田　大貴，横山　良平（大
 阪府立大学）\n\n\n13：00～15：00　セッション６ 　再生
 可能エネルギー（1）\n\n\n６－１\nPV，蓄電池，EVによる
 都市中心街と住宅街の脱炭素化比較研究\n\n\n\n○小端　
 拓郎，チョイヨンフン，平野　勇二郎，山形　与志樹
 （国立環境研究所）\n\n\n６－２\nImpact of Urban Morphology on 
 Building Energy Use and Solar Potential of the Commercial Building Stock i
 n Tokyo\n\n\n\n○Chao Sun，Usama Perwez，山口　容平，下田　吉
 之（大阪大学）\n\n\n６－３\n気象などの外的要因がソー
 ラークーリングシステムの性能に及ぼす影響～実測と
 モデルによる評価～\n\n\n\n○佐方　圭寿，西村　伸也（
 大阪市立大学），山田　研治（大阪ガス）\n\n\n６－４\n
 太陽熱利用機器の年間を通した実証試験の実施および
 結果解析\n\n\n\n○吉田　洋之，水谷　圭一，三島　憲明
 （関西電力）\n\n\n６－５\n長期太陽光発電量推定に関す
 る研究\n\n\n\n○渡辺　武志，長坂　研（東京農工大学）
 \n\n\n６－６\n中低温熱源を利用した直膨式ヒートポンプ
 システム用の流下液膜式およびシェルアンドコイル式
 蒸発器の開発\n\n\n\n○福富　直輝（大阪市立大学），澤
 部　孝一（総合設備コンサルタント），根津　憲暁（
 サイエンス），西村　伸也，中尾　正喜（大阪市立大
 学），三毛　正仁（総合設備コンサルタント），奥野
 　敏彦（サイエンス）\n\n\n13：00～15：00　セッション７
  　エネルギー経済（1）\n\n\n７－１\n変動性再生可能電
 源による2030年の電力需給，地域間連系線増強と炭素税
 の効果検証\n\n\n\n○竹濱　朝美（立命館大学），歌川　
 学（産業技術総合研究所）\n\n\n７－２\n人流データと電
 力需要データを用いたCOVID-19対策に伴う社会活動の影響
 評価\n\n\n\n○井上　智弘，加藤　悦史，黒沢　厚志（エ
 ネルギー総合工学研究所）\n\n\n７－３\n動学的多部門エ
 ネルギー経済モデルを用いた太陽光発電産業のリユー
 ス及びリサイクルを踏まえた構造変化による社会的影
 響評価\n\n\n\n○白川　稔，小宮山　涼一，藤井　康正（
 東京大学）\n\n\n７－４\n不確実性下における企業の再生
 可能エネルギー投資意思決定行動に関する研究\n\n\n\n○
 後藤　良介，手塚　哲央（京都大学）\n\n\n７－５\n供給
 関数均衡モデルを用いた卸電力市場分析\n\n\n\n○八木　
 賢治郎，Ramteen Sioshansi（The Ohio State University）\n\n\n７－
 ６\nDynamic Multi-Sector Energy Economic Analysis to Identify Potential o
 f Nuclear and Renewable Energy Options in Expanding Electricity Sector of 
 Developing Countries: Bangladesh Case Study\n\n\n\n○Jubair SIEED，小
 宮山　涼一，藤井　康正（東京大学）\n\n\n13：00～15：00
 　セッション８ 　水素（1）\n\n\n８－１\n既存都市ガス
 ネットワークへの水素混合とカーボンニュートラルメ
 タン混合の経済性分析\n\n\n\n○柴田　善朗，永田　敬博
 （日本エネルギー経済研究所）\n\n\n８－２\n粉体炭素材
 料添加による水素吸蔵合金層内の伝熱促進手法に関す
 る検討\n\n\n\n○黄　喆，納富　信，裴　相哲（早稲田大
 学）\n\n\n８－３\n水の使用量を考慮した水素生産システ
 ムの設計\n\n\n\n○糸井　優太，ゴンザレス ファン，荒
 木　幹也（群馬大学）\n\n\n８－４\n地方への水素インフ
 ラ導入効果に関する検討\n\n\n\n○神田　直輝，秋元　祐
 太朗，岡島　敬一（筑波大学）\n\n\n８－５\nThe Historical 
 Mapping of the Hydrogen Economy\n\n\n\n○Yap Jiazhen，Benjamin C. McLell
 an（京都大学）\n\n\n８－６\nバイオガスの有効利用に向
 けた燃料電池発電性能評価及び簡易精製手法の検討\n\n\
 n\n○嶺井　雄太，秋元　祐太朗，岡島　敬一（筑波大
 学）\n\n\n15：20～16：40　セッション９ 　地域エネルギ
 ー需給（3）\n\n\n９－１\n長期電力需要予測におけるPfGA
 によるハイパーパラメータの最適化とその有用性に関
 する研究\n\n\n\n○岩下　捷二朗，長坂　研（東京農工大
 学）\n\n\n９－２\n交通需要を加味した中部電力の長期エ
 ネルギー計画に関する研究\n\n\n\n○坂井　洋介，長坂　
 研（東京農工大学）\n\n\n９－３\n発表中止\n\n\n９－４\nD
 evelopment of a geo-driven occupant behaviour model for residential buildi
 ng energy demand simulation\n\n\n\n○Yuanmeng Li，山口　容平，下
 田　吉之（大阪大学）\n\n\n９－５\nPower-to-heatを考慮し
 た地域熱供給システムの設計\n\n\n\n○尾崎　竣也，中田
 　俊彦，Remi Delage，根本　和宜（東北大学）\n\n\n15：20
 ～16：40　セッション10 　再生可能エネルギー（2）\n\n\n
 10－１\nアジア諸国における再生可能エネルギーの状況
 と課題\n\n\n\n○闞　思超，永田　敬博，吉田　昌登（日
 本エネルギー経済研究所）\n\n\n10－２\n電力取引市場価
 格に応じた再エネ＋蓄電池の収益最大化に関する検討\n
 \n\n\n○闞　思超（日本エネルギー経済研究所）\n\n\n10－
 ３\nブロックチェーン技術を活用したP2P環境価値取引実
 証\n\n\n\n○松岡　武彦，坂井　寛久，石田　文章（関西
 電力），三枝　功典，行木　弥鈴，武永　直哉，中村
 　誠吾（日本ユニシス），佐川　大志，田中　謙司（
 東京大学）\n\n\n10－４\n人工知能技術を用いた短期風力
 発電量推定に関する研究\n\n\n\n○内藤　友介，長坂　研
 （東京農工大学）\n\n\n15：20～16：40　セッション11 　エ
 ネルギー経済（2）\n\n\n11－１\n日本の石油業界のリスク
 とチャンス\n\n\n\n○加藤　陽平（日本エネルギー経済研
 究所）\n\n\n11－２\nガス小売全面自由化４年目の競争動
 向\n\n\n\n○眞砂　大介（日本エネルギー経済研究所）\n\
 n\n11－３\n水素需要および輸入水素利用を含むエネルギ
 ーシステムの最適運用モデルの構築\n\n\n\n○原田　耕佑
 （ENEOS），矢部　邦明，林　泰弘（早稲田大学）\n\n\n11
 －４\nCO2削減賦課金と蓄電池の導入が石炭火力の利用率
 とCO2排出量に及ぼす影響の評価\n\n\n\n○矢部　邦明，林
 　泰弘（早稲田大学）\n\n\n15：20～17：00　セッション12 
 　水素（2）\n\n\n12－１\n再生可能エネルギー由来水素ス
 テーションの運用方策に関する検討（まとめ）\n\n\n\n○
 杉本　一郎（エネルギー・生活科学研究所），宮崎　
 佑亮（筑波大学），小林　将大（富士電機），安芸　
 裕久（筑波大学），藤澤　彰利（神戸製鋼所），石田
 　政義（筑波大学）\n\n\n12－２\n太陽光発電－水電解連
 系システムにおける予測情報を用いた運転計画と運用
 制御による水素製造の定量評価\n\n\n\n○宮崎　佑亮，岩
 本　淳宏（筑波大学），小林　将大（富士電機），石
 田　政義（筑波大学），藤澤　彰利（神戸製鋼所），
 杉本　一郎（エネルギー・生活科学研究所）\n\n\n12－３
 \n太陽光発電を主力とする分散型水素蓄エネルギーシス
 テムにおける燃料電池排熱利用の効果\n\n\n\n○大久保　
 辰哉，伊原　学（東京工業大学）\n\n\n12－４\n小売事業
 者における蓄電池と水電解装置の協調運転に関する研
 究\n\n\n\n○松原　雅，吉岡　剛，松橋　隆治（東京大学
 ）\n\n\n12－５\n水素製造を考慮した地域新電力の経営リ
 スク管理に関する研究\n\n\n\n○小野田　貴亮，吉岡　剛
 ，松橋　隆治（東京大学）\n\n\n \n\n\n１月27日（水）\n\n
 \n９：50受付開始\n\n\n10：00～12：00　セッション13 　＜
 企画セッション＞家庭部門のCO2排出統計実態調査（1）\
 n\n\n13－１\n乗用車によるCO2排出量の経年変化とその要
 因の分析\n\n\n\n○橋本　陸（東京大学），兪　善彬（九
 州大学），吉田　好邦（東京大学）\n\n\n13－２\n家庭部
 門のエネルギー消費量の地域特性に関する統計分析\n\n\
 n\n○長谷川　兼一（秋田県立大学），外岡　豊（埼玉
 大学）\n\n\n13－３\n機械学習を用いた家庭部門のエネル
 ギー消費実態に関する分析\n\n\n\n○中村　仁明（三菱UFJ
 リサーチ＆コンサルティング），下田　吉之（大阪大
 学）\n\n\n13－４\n自家用車の保有状況と走行距離に関す
 る個票データを用いた家庭部門の輸送需要の長期予測\n
 \n\n\n○星野　優子，森田　圭（ENEOS）\n\n\n13－５\nCluster 
 analysis of Japan households’ energy consumption per resource\n\n\n\n○
 Delage Remi，中田　俊彦（東北大学）\n\n\n13－６\n家庭CO2
 統計を活用したZEHと一般住宅の評価\n\n\n\n○田中　昭雄
 （熊本県立大学）\n\n\n10：00～12：00　セッション14 　電
 力システム（1）\n\n\n14－１\n需要家間P2P電力取引の経済
 性および耐災害性の潜在的評価に関する基礎的検討\n\n\
 n\n○中村　勇太（名古屋工業大学）\n\n\n14－２\n台湾住
 宅用電力シミュレーションデータの対日本比較と蓄電
 池導入効果のモデル分析\n\n\n\n○宁　雨桐，武田　桃子
 ，菅沼　敏幸，渡邊　裕美子（Looop），蔡　耀賢（台湾
 成功大学）\n\n\n14－３\nHow will the capital cost influence the int
 egration of CCS coal plant in Chinese low-carbon optimal power expanding p
 lan by 2050?\n\n\n\n○Ye Yi．Khem Gyanwali（Tribhuvan University），
 小宮山　涼一，藤井　康正，山口　彰（東京大学）\n\n\
 n14－４\n業務用ビル空調機器のデマンドレスポンスポテ
 ンシャルの通年評価\n\n\n\n○今中　政輝（名古屋大学）
 ，朱　セイ，ラジャブ ミュヴェラ（中部電力），栗本
 　宗明，杉本　重幸，加藤　丈佳（名古屋大学），藤
 田　美和子（中部電力）\n\n\n14－５\n電力需給モデルの
 限界費用によるスポット市場価格分析\n\n\n\n○荻本　和
 彦，岩船　由美子，占部　千由（東京大学），東　仁
 ，礒永　彰（J-POWERビジネスサービス）\n\n\n14－６\n再エ
 ネ導入拡大を考慮した需給運用および系統増強に関す
 る協力ゲーム理論による分析\n\n\n\n○奥山　雄太，松橋
 　隆治（東京大学）\n\n\n10：00～12：00　セッション15 　
 地球温暖化（2）\n\n\n15－１\n気候変動の統合評価モデル
 におけるTipping elementsの相互作用：グリーンランド氷床
 融解と大西洋熱塩循環崩壊を中心としたモデル化と分
 析\n\n\n\n○大槻　貴司，松尾　雄司，森本　壮一（日本
 エネルギー経済研究所）\n\n\n15－２\n気候変動の統合評
 価モデルにおける緩和費用に関する検討\n\n\n\n○森本　
 壮一，松尾　雄司，大槻　貴司（日本エネルギー経済
 研究所）\n\n\n15－３\n世界エネルギー経済モデルを用い
 た，国境炭素調整の導入による影響分析\n\n\n\n○本間　
 隆嗣，長島　美由紀，小田　潤一郎，秋元　圭吾（地
 球環境産業技術研究機構）\n\n\n15－４\n世界エネルギー
 モデルによる大気CO2直接回収技術の評価\n\n\n\n○佐野　
 史典，秋元　圭吾，金星　春夫，小田　潤一郎，中野
 　優子（地球環境産業技術研究機構）\n\n\n15－５\n低炭
 素化経済を実現するトランジション・ファイナンスの
 考察及び定量的評価\n\n\n\n○長島　美由紀，佐野　史典
 ，秋元　圭吾（地球環境産業技術研究機構）\n\n\n15－６
 \nデジタル化の進展によるエネルギー需要の変化に関す
 るエネルギー・温暖化対策の総合的な分析\n\n\n\n○秋元
 　圭吾，佐野　史典，小田　潤一郎（地球環境産業技
 術研究機構）\n\n\n10：00～12：00　セッション16 　部門別
 エネルギー需要（2）\n\n\n16－１\n電気自動車の双方向給
 電を考慮した住宅エネルギーシステムの最適設計\n\n\n\n
 ○東谷　拓弥，池上　貴志，秋澤　淳（東京農工大学
 ）\n\n\n16－２\n事業用車両の電動化ポテンシャルとその
 影響について\n\n\n\n○上田　嘉紀，太田　豊，岩田　章
 裕，下田　吉之（大阪大学）\n\n\n16－３\nｅモビリティ
 導入の際のスマートシティKPIの基礎検討\n\n\n\n○麻島　
 健，太田　豊，香川　公司，岩田　章裕（大阪大学）\n
 \n\n16－４\nImpact of Electric Vehicle Availability on Flexibility Manag
 ement of Power Systems with High Penetration of Photovoltaic Systems\n\n\n
 \n○Helindu Cumaratunga，今中　政輝，栗本　宗明，杉本　
 重幸，加藤　丈佳（名古屋大学）\n\n\n16－5\n電気自動車
 を活用したカーシェアリングシステムと充放電エネル
 ギーマネジメントシステムの設計に関する研究\n\n\n\n○
 米田　琢見（東京大学），有吉　亮（横浜国立大学）
 ，松橋　隆治（東京大学）\n\n\n16－６\n重回帰分析を用
 いた地域別旅客自動車消費エネルギーの推定\n\n\n\n○末
 松　天地，Remi Delage ，根本　和宜，中田　俊彦（東北
 大学）\n\n\n13：00～15：00　セッション17 　＜企画セッシ
 ョン＞2050年のエネルギー需給\n\n\n17－１\n2050年に向け
 た科学的レビューメカニズム試論\n\n\n\n○杉山　昌広（
 東京大学）\n\n\n17－２\n脱炭素社会の実現に向けたイノ
 ベーション事例の構造化\n\n\n\n○小澤　暁人，八戸　由
 佳（産業技術総合研究所）\n\n\n17－３\nネガティブ・エ
 ミッション技術導入によるCO2削減コスト低減効果\n\n\n\n
 ○川上　恭章（日本エネルギー経済研究所）\n\n\n17－４
 \n2050年の電力需給における低炭素化の可能性\n\n\n\n○荻
 本　和彦，岩船　由美子，占部　千由（東京大学），
 東　仁（J-POWERビジネスサービス），黒沢　厚志（エネ
 ルギー総合工学研究所）\n\n\n17－５\nグリーン・リカバ
 リーに対応した東京都の再生可能エネルギー100%シナリ
 オの検討\n\n\n\n○松原　弘直（環境エネルギー政策研究
 所），歌川　学（産業技術総合研究所）\n\n\n17－６\nPari
 s協定達成に向けた2050年Zero Emission Scenario　その７　シ
 ナリオの基礎となる将来社会展望－ポスト・コロナを
 踏まえて\n\n\n\n○外岡　豊（埼玉大学）\n\n\n13：00～15：
 00　セッション18 　電力システム（2）\n\n\n18－１\n系統
 慣性等常時監視システムの開発について\n\n\n\n○立松　
 正幹，澤崎　正明，前川　友哉（関西電力），上田　
 順一（近計システム）\n\n\n18－２\n電力需要減少を考慮
 した北海道電力システムの事業継続性分析\n\n\n\n○児島
 　怜，鈴木　研悟（筑波大学）\n\n\n18－３\n長尺部分ラ
 イニング工法の開発\n\n\n\n○砂原　智徳，坂本　康（関
 西電力）\n\n\n18－４\n電力送配電部門を詳細化した技術
 選択モデルによる太陽光発電大量導入下における電力
 流通設備の利用・維持に関する分析\n\n\n\n○神戸　健太
 郎，小宮山　涼一，藤井　康正（東京大学）\n\n\n18－５
 \n調整力市場の高速カテゴリにおけるリソースアグリゲ
 ーション活用のケース分析\n\n\n\n○坂東　茂，山田　智
 之（電力中央研究所）\n\n\n18－６\n2050年に向けた最適電
 源構成の検討 −マクロ経済影響を加味した定量分析−\
 n\n\n\n○岡林　秀明（日本エネルギー経済研究所），柴
 田　智文（中部電力），松尾　雄司（日本エネルギー
 経済研究所）\n\n\n13：00～15：00　セッション19 　地球温
 暖化（3）\n\n\n19－１\n米・中・EUのネットゼロ排出戦略\
 n\n\n\n○和田　謙一（地球環境産業技術研究機構）\n\n\n1
 9－２\n日本の産業界の温室効果ガス排出削減の自主的
 取り組みに関する分析・評価\n\n\n\n○大西　尚子，秋元
 　圭吾（地球環境産業技術研究機構）\n\n\n19－３\n各種
 排出削減シナリオにおける合成燃料の利用可能性を考
 慮した温暖化対策の影響分析\n\n\n\n○金星　春夫，佐野
 　史典，秋元　圭吾（地球環境産業技術研究機構）\n\n\
 n19－４\n車両電動化及びカーシェア普及が温室効果ガス
 排出量へ与える影響\n\n\n\n○大瀬　佳之（豊田中央研究
 所）\n\n\n19－５\n情報技術等の活用による日本の食品廃
 棄低減が世界のエネルギー消費とGHG排出に及ぼす影響
 の分析\n\n\n\n○林　礼美，本間　隆嗣，秋元　圭吾（地
 球環境産業技術研究機構）\n\n\n19－６\n航空部門の温暖
 化対策技術の展望と世界エネルギー需給への影響分析\n
 \n\n\n○中野　優子，佐野　史典，秋元　圭吾（地球環
 境産業技術研究機構）\n\n\n13：00～14：40　セッション20 
 　部門別エネルギー需要（3）\n\n\n20－１\n配電系統の消
 費電力パターンのモデル化に向けた住宅における消費
 電力特性に関する調査（その１）計測調査の概要と対
 象需要家の選定\n\n\n\n○岩松　俊哉，上野　剛，大嶺　
 英太郎，尾上　春樹（電力中央研究所）\n\n\n20－２\nESIR
 Eモデルを活用した市場連動価格適用時の住宅DRの経済
 性評価\n\n\n\n○岩船　由美子，森　裕子（東京大学），
 河口　俊朗，岸本　卓也，金子　雄（東芝）\n\n\n20－３
 \n住宅形態と居住人数を考慮した家庭部門のエネルギー
 消費量の推計\n\n\n\n○古林　敬顕（秋田大学）\n\n\n20－
 ４\nエネルギー多消費型である高齢世帯への介入可能性
 について\n\n\n\n○八木田　克英，辻　千奈美，河合　俊
 明，岩船　由美子（東京大学）\n\n\n20－５\n集合住宅に
 おける48時間停電自立実験\n\n\n\n○志波　徹（大阪ガス
 ），伊香賀　俊治（慶應義塾大学），田辺　新一（早
 稲田大学），秋元　孝之（芝浦工業大学）\n\n\n15：20～1
 6：20　セッション21 　＜企画セッション＞家庭部門のCO
 2排出統計実態調査（2）\n\n\n21－１\n家庭部門のCO2排出
 実態統計調査の個票データに基づく地域別，エネルギ
 ー構成別，所得階層別のエネルギー源別価格と支出の
 分析\n\n\n\n○星野　優子（ENEOS），小川　順子（日本エ
 ネルギー経済研究所）\n\n\n21－２\n発表中止\n\n\n21－３\n
 家庭CO2統計の個票データを用いた光熱費の実態把握\n\n\
 n\n○西尾　健一郎（電力中央研究所）\n\n\n21－４\n情報
 化技術が家庭部門／産業部門に及ぼす影響の分析 －情
 報トラヒックとテレワークの影響の調査データの分析
 －\n\n\n\n○森　俊介（科学技術振興機構）\n\n\n15：20～16
 ：40　セッション22 　省エネルギー（2）\n\n\n22－１\n熱
 供給システムの離散および非線形特性を考慮した最適
 運用（混合整数二次モデルの適用）\n\n\n\n○益山　琢夢
 ，横山　良平，涌井　徹也（大阪府立大学）\n\n\n22－２
 \n混合整数線形モデルによるエネルギー供給システムの
 多目的ロバスト最適設計\n\n\n\n○平松　祐人，横山　良
 平，涌井　徹也（大阪府立大学）\n\n\n22－３\nエネルギ
 ー需要量の区間予測に基づくエネルギー供給システム
 のロバスト最適運用（時系列モデルによる区間予測の
 検討）\n\n\n\n○大川　佑，横山　良平，涌井　徹也（大
 阪府立大学）\n\n\n22－４\nスーパーマーケットのエネル
 ギー消費に関する研究（第18報）店舗温熱環境解析CFDモ
 デルを用いた省エネルギー対策評価\n\n\n\n○魏　誠浩（
 東京大学），藤田　美和子（中部電力），鳴海　大典
 （横浜国立大学）\n\n\n15：20～17：00　セッション23 　環
 境問題一般\n\n\n23－１\nスマートシティのソーシャル・
 キャピタル：横浜みなとみらい21を事例として\n\n\n\n○
 鷲津　明由（早稲田大学），中野　諭（日本福祉大学
 ）\n\n\n23－２\n建築分野における環境影響の貨幣価値換
 算に関する検討～カーボンプライシングや自然資本会
 計の視点でのモデル建物の分析～\n\n\n\n○望月　唯香，
 藤田　あゆ，小林　謙介（県立広島大学）\n\n\n23－３\nC
 OVID-19による地域電力需給及びCO2排出量への影響（その
 ２）2020年上半期の状況\n\n\n\n○田中　昭雄（熊本県立
 大学）\n\n\n23－４\n脱炭素化に向けた電源構成のベスト
 ・ワースト・スケーリング評価\n\n\n\n○吉田　謙太郎（
 九州大学）\n\n\n23－５\nEnergy-X-Nexus：A Review and Proposal for 
 the Future\n\n\n\n○Benjamin C. McLellan（京都大学）\n\n\n15：20
 ～16：40　セッション24 　コージェネレーション・エネ
 ルギー貯蔵\n\n\n24－１\nコージェネレーションシステム
 の電気・熱のエネルギー価値の評価方法について\n\n\n\n
 ○白木　一成（EEPリサーチ）\n\n\n24－２\nエネルギー供
 給システムの最適設計のための期間集約の評価（ロバ
 スト最適化に基づく評価手法の提案）\n\n\n\n○横山　良
 平，宮原　尚暉，涌井　徹也（大阪府立大学）\n\n\n24－
 ３\nエネルギー負荷の地域性を考慮した業務用SOFCの導
 入ポテンシャル推定\n\n\n\n○阿部　良，池上　貴志，秋
 澤　淳（東京農工大学）\n\n\n24－４\n発表中止\n\n\n24－
 ５\n濃度差エネルギー貯蔵による需要サイドでの熱エネ
 ルギー消費量平滑化の評価\n\n\n\n○間宮　尚，辻本　宏
 ，野呂　好幸，増田　真佑，速水　公佑（鹿島建設）
 ，二階　勲（丸和電機）\n\n&nbsp\;\n\n&nbsp\;\n\n\n\n＜時間
 ・セッション名＞\n１月26日（火）\n\n\n\n10：00～11：40\n
 セッション１：\n地域エネルギー需給（1）\n10：00～11：
 40\nセッション２：\n省エネルギー（1）\n10：00～11：40\n
 セッション３：\n地球温暖化（1）\n10：00～12：00\nセッ
 ション４：\n部門別エネルギー\n需要（1）\n\n\n12：00～13
 ：00　　昼　　　　　　食\n\n\n13：00～14：40\nセッショ
 ン５：\n地域エネルギー需給（2）\n13：00～15：00\nセッ
 ション６：\n再生可能エネルギー（1）\n13：00～15：00\n
 セッション７：\nエネルギー経済（1）\n13：00～15：00\n
 セッション８：\n水素（1）\n\n\n15：20～16：40\nセッショ
 ン９：\n地域エネルギー需給（3）\n15：20～16：40\nセッ
 ション10：\n再生可能エネルギー（2）\n15：20～16：40\nセ
 ッション11：\nエネルギー経済（2）\n15：20～17：00\nセッ
 ション12：\n水素（2）\n\n\n\n&nbsp\;\n\n１月27日（水）\n\n\n
 \n10：00～12：00\nセッション13：\n＜企画セッション＞\n
 家庭部門のCO2排出統計実態調査（1）\n10：00～12：00\nセ
 ッション14：\n電力システム（1）\n10：00～12：00\nセッシ
 ョン15：\n地球温暖化（2）\n10：00～12：00\nセッション16
 ：\n部門別エネルギー\n需要（2）\n\n\n12：00～13：00　　
 昼　　　　　　食\n\n\n13：00～15：00\nセッション17：\n＜
 企画セッション＞\n2050年のエネルギー需給\n13：00～15：
 00\nセッション18：\n電力システム（2）\n13：00～15：00\n
 セッション19：\n地球温暖化（3）\n13：00～14：40\nセッシ
 ョン20：\n部門別エネルギー\n需要（3）\n\n\n15：20～16：2
 0\nセッション21：\n＜企画セッション＞\n家庭部門のCO2
 排出統計実態調査（2）\n15：20～16：40\nセッション22：\n
 省エネルギー（2）\n15：20～17：00\nセッション23：\n環境
 問題一般\n15：20～16：40\nセッション24：\nコージェネレ
 ーション・\nエネルギー貯蔵\n\n\n\n&nbsp\;\n\n（注）\n・発
 表時間１題目20分（講演15分，討論５分）\n・○印は当
 日発表予定者，その他は共同研究者
CATEGORIES:コンファレンス
END:VEVENT
BEGIN:VTIMEZONE
TZID:Asia/Tokyo
X-LIC-LOCATION:Asia/Tokyo
BEGIN:STANDARD
DTSTART:20200128T000000
TZOFFSETFROM:+0900
TZOFFSETTO:+0900
TZNAME:JST
END:STANDARD
END:VTIMEZONE
END:VCALENDAR