BEGIN:VCALENDAR
VERSION:2.0
PRODID:-//wp-events-plugin.com//7.2.2.1//EN
TZID:Asia/Tokyo
X-WR-TIMEZONE:Asia/Tokyo
BEGIN:VEVENT
UID:19@jser.gr.jp
DTSTART;TZID=Asia/Tokyo;VALUE=DATE:20210127
DTEND;TZID=Asia/Tokyo;VALUE=DATE:20210128
DTSTAMP:20211019T053211Z
URL:https://www.jser.gr.jp/events/37enecon/
SUMMARY:第37回エネルギーシステム・経済・環境コンファ
 レンス参加案内
DESCRIPTION:\n最新プログラムはこちら\n&nbsp\;\n　エネルギ
 ー、資源、環境に関する最新の学際的、業際的研究発
 表の場として、また、広範な分野の研究者や技術者が
 産官学の枠を越えて交流する場として、当該分野に係
 わる研究機関との共催で「第37回エネルギーシステム・
 経済・ 環境コンファレンス」を、新型コロナウイルス
 感染症拡大防止のため、オンラインで開催します。な
 お残念ながら、 特別講演会、技術交流会は中止します
 。\n　本コンファレンスでは、２日間に亘り124件の研究
 発表（企画セッション「2050年のエネルギー需給」６件
 、「家庭部門のCO2排出統計実態調査」9件を含む）が行
 われます。奮ってご参加下さい。\n\n&nbsp\;\n\n〔主　　
 催〕エネルギー・資源学会\n&nbsp\;\n\n\n\n〔共　　催〕電
 力中央研究所，日本エネルギー経済研究所，エネルギ
 ー総合工学研究所，地球環境産業技術研究機構，コー
 ジェネレーション・エネルギー高度利用センター\n&nbsp\
 ;\n\n\n\n〔後　　援〕新エネルギー・産業技術総合開発
 機構\n&nbsp\;\n\n\n\n〔協　　賛〕化学工学会，電気学会，
 日本エネルギー学会，日本機械学会，日本原子力学会
 ，日本シミュレーション学会，公益事業学会，三菱総
 合研究所，日本エレクトロヒートセンター\n&nbsp\;\n\n\n\n
 〔日　　時〕\n\n\n\n2021年1月26日（火）　10：00～17：00\n\
 n\n\n2021年1月27日（水）　10：00～17：00\n&nbsp\;\n\n\n\n〔会
 　　場〕オンライン開催（ZoomのURL，ID等を参加申込者
 に会期1週間前にお知らせします）\n&nbsp\;\n\n\n\n〔研究
 発表〕\n\n\n\n\n\n＊発表件数　124件\n\n\n\n＊発表時間　1
 題目20分（講演15分、討論5分）\n\n&nbsp\;\n\n〔参加費〕\n\
 n\n\n \n\n正会員・特別会員　\n\n\n学生会員\n\n共催・後
 援・協賛団体会員\n非会員\n\n\n本会正会員・特別会員\n
 本会非会員\n\n\nコンファレンス参加費\n15\,000円 （不課
 税）\n\n7\,000円 （不課税） \n\n\n15\,000円 （不課税） \n\n\
 n16\,500円 （消費税込） \n\n\n27\,500円 （消費税込）\n\n\n\n
 \n\n&nbsp\;\n\n\n\n＊コンファレンス参加費には、2日間の参
 加費と講演論文集（本会Webからダウンロード）を含み
 ます。なお、講演論文集のCD-ROM（フルペーパー収録）
 は、希望者のみに送付します。\n\n\n\n＊講演論文集（CD-
 ROM）のみを別途購入いただく場合は、CDのみを送付し、
 本会正会員・特別会員11\,000円、学生会員5\,500円、非会
 員16\,500円です（何れも消費税込）。\n\n\n\n＊講演論文
 集は、開催前に本会Web 上に公開します。閲覧・ダウン
 ロードに必要なIDとパスワードは、参加申込後にお知ら
 せしますので、参加申込時に必ずE-mail アドレスをご記
 入下さい。\n&nbsp\;\n\n\n\n※講演論文集について\n\n\n\n講
 演論文集（ダウンロード版）は、期間限定で以下より
 ダウンロードできます。\n\n&nbsp\;\n\n①ダウンロード期
 間\n\n\n\n2021年1月19日（火）～2021年2月2日（火）\n\n\n\n②
 ID・パスワード\n\n\n\n参加申込受付後にお知らせします
 。\n\n\n\n③ダウンロードの方法\n\n\n\n学会ホームページ
 の講演論文集（ダウンロード版）ページ（1/19～2/2掲載
 ）にてID・パスワードを入力し、閲覧下さい。\n\n&nbsp\;\
 n\n○CD-ROM版の講演論文集は、参加申込時に送付希望さ
 れた方のみに送付します。\n&nbsp\;\n\n\n\n〔申込方法〕\n\
 nページ下部の申込フォームよりお申し込み下さい（＊
 は必ずご記入下さい）。\n&nbsp\;\n\n\n\n1．研究発表者\n\n\
 n\n2021年1月7日（木）までに必ず申込み下さい。申し込
 み受付後、請求書等を順次送付します。 ※この期日ま
 でに参加申込をしていない場合、発表申込をキャンセ
 ルされたものとして、プログラムは発表中止とし、Web
 版、CD-ROM版いずれの講演論文集にも掲載しません。\n\n\
 n\n2．一般参加者の方\n\n\n\n2021年1月18日（月）までに申
 込み下さい（当日参加は受付いたしません）。申し込
 み受付後、請求書等を順次送付します。\n\n\n\n＊ZoomのUR
 L、ID等を参加申込者に会期1週間前にお知らせしますの
 で、必ずE-mailアドレスをお知らせ下さい。\n\n&nbsp\;\n\n
 〔支払方法〕\n\n\n\n以下の口座にお振込下さい。\n\n\n\n
 ①銀行振込　りそな銀行御堂筋支店（普）No.1024046\n\n\n\
 n②銀行振込　三井住友銀行大阪本店営業部（普）No.4514
 126\n\n\n\n③郵便振替　00930-5-302948 （他金融機関からは、
 〇九九店（当）0302948）\n\n\n\n＊振込手数料は、ご負担
 下さいます様お願いいたします。\n\n\n\n＊原則として、
 開催前に参加費をお振込願います。 開催後のお振込に
 なられる場合には、予め振込予定日をお知らせ願いま
 す。\n\n&nbsp\;\n\n〔キャンセルポリシー〕\n\n\n\n◆気象特
 別警報や暴風警報などの発令、大規模災害の発生など
 、参加者に危険が及ぶ恐れがある場合、企画実行委員
 長は開催中止を決定することがあります。\n◆開催中止
 の判断は原則的に一日単位で行います。第一日目が中
 止であっても第二日目は開催する場合や、第二日目の
 み中止とする場合もあります。\n◆開催中止と決定した
 場合には、直ちに本会Webサイト上で告知します。\n◆中
 止日に発表予定の講演論文は本大会で発表されたもの
 とします。\n◆短縮開催となった場合でも、参加費は通
 常通りとなります。参加費の返金は致しません。\n◆全
 期間中止となった場合、短縮開催日に出席されなかっ
 た場合、あるいは通常開催であっても両日とも出席さ
 れなかった場合、配布を希望されている方へは、後日
 、講演論文集（CD-ROM版）を郵送いたします。\n
CATEGORIES:コンファレンス
END:VEVENT
BEGIN:VTIMEZONE
TZID:Asia/Tokyo
X-LIC-LOCATION:Asia/Tokyo
BEGIN:STANDARD
DTSTART:20200128T000000
TZOFFSETFROM:+0900
TZOFFSETTO:+0900
TZNAME:JST
END:STANDARD
END:VTIMEZONE
END:VCALENDAR