BEGIN:VCALENDAR
VERSION:2.0
PRODID:-//wp-events-plugin.com//7.2.2.1//EN
TZID:Asia/Tokyo
X-WR-TIMEZONE:Asia/Tokyo
BEGIN:VEVENT
UID:221@jser.gr.jp
DTSTART;TZID=Asia/Tokyo:20260608T144500
DTEND;TZID=Asia/Tokyo:20260608T183000
DTSTAMP:20260423T014348Z
URL:https://www.jser.gr.jp/events/2026konwa1/
SUMMARY:2026年度第1回エネルギー政策懇話会「バイオ燃料
 の導入推進に関する官民の取組」
DESCRIPTION:グリーントランスフォーメーションの推進には
 ，省エネルギー，脱炭素電源に加えて持続可能な次世
 代燃料の利用拡大が不可欠です．持続可能燃料として
 は水素やアンモニア，合成燃料・合成メタンに加えて
 バイオ燃料の導入が期待されています．我が国は昨年
 ，バイオ燃料の生産・利用で先行するブラジルと共同
 で初の持続可能燃料閣僚会議を大阪市で開催し，さら
 に気候変動枠組条約のCOP30 ではブラジル・イタリアと
 ともにベレン持続可能燃料４倍宣言を共同提案するな
 どの取り組みを行い，この分野への注目が国内外でま
 すます高まっています．\nバイオ燃料の導入に関する我
 が国の具体的な政策目標として，第７次エネルギー基
 本計画において2030年度までのバイオエタノール最大濃
 度10% のガソリン（E10）の供給開始と2040 年度以降の最
 大濃度20%（E20）化の追及，航空脱炭素化推進基本方針
 において2030 年時点で我が国の航空運送事業者による燃
 料使用量の10% を持続可能な航空燃料（SAF）に置き換え
 ることなどが掲げられており，その実現に向けて，次
 世代燃料の導入促進に向けた官民協議会等を通じた導
 入推進が行われているところです．本懇話会では，こ
 れらを主導する官民それぞれの立場から話題提供をい
 ただき，バイオ燃料の導入に関する動向について理解
 を深めるとともに，その推進に当たって解決すべき課
 題とその対策などについて意見を交換する機会とした
 く思います．皆様方の多数のご参加をお待ちしており
 ます．\n\n&nbsp\;\n\n〔主 催〕一般社団法人エネルギー・
 資源学会\n\n&nbsp\;\n\n〔日 時〕2026年6月8日（月）　14：50
 ～17：00　懇話会\n\n＿＿＿＿＿＿＿＿＿＿＿＿＿＿  17
 ：00～18：30　交流会（立食）\n\n&nbsp\;\n〔会 場〕大阪科
 学技術センター（大阪市西区靭本町1-8-4）\n　　　　＊
 懇話会 ４階 401号室　　＊交流会 ７階レストラン\n＿＿
 ＿＿\n〔交通〕大阪メトロ四ツ橋線本町駅28号出口より
 北へ徒歩５分\n　　　　御堂筋線本町駅２号出口より西
 へ徒歩８分（https://www.ostec.or.jp/access.html 参照）\n　　
 　＿\n〔司 会〕\n\n\n\n大阪ガス株式会社　先端技術研究
 所\nエネルギー合成・利用技術チームマネジャー\n\n&nbsp
 \;\n\n田中　琢実\n\n\n立命館大学　政策科学部　教授\n小
 杉　隆信\n\n\n\n\n\n\n\n\n\n\n\n〔次 第〕\n\n14：50～15：00　
 挨拶　エネルギー・資源学会副会長，懇話会世話人代
 表　秋元　圭吾\n\n15：00～15：30　《話題提供（１）》\n
 \n\n\n…経済産業省 資源エネルギー庁\n資源・燃料部燃
 料供給基盤整備課長\n\n\n東　　哲也　氏\n\n\n\n15：30～16
 ：00　《話題提供（２）》\n\n\n\n…ENEOS株式会社 執行理
 事 次世代燃料部長\n\n\n田中　秀明　氏\n\n\n\n\n\n（16：00
 ～16：10　休憩）\n\n16：10～16：55　意見交換（16：55～17
 ：00　移動）\n\n17：00～18：30　交流会\n\n&nbsp\;\n\n〔定 
 員〕40名程度\n\n&nbsp\;\n\n〔参加費（消費税込）〕\n\n16\,5
 00円（参加は，本会の正会員・特別会員に限る）\n\n&nbsp
 \;\n\n〔支払方法〕①銀行振込　りそな銀行御堂筋支店
 （普）No.1024046　②郵便振替　00930-5-302948\n\n&nbsp\;\n\n〔
 申込方法〕\n\n以下の申込フォームよりお申し込みくだ
 さい（＊は必ずご記入ください）．\n参加証はメールで
 お送りします．当日ご持参ください．\n請求書・領収書
 は，電子メールの添付ファイル（PDFデータ（押印省略
 ））にて，ご希望の方にのみお送りします．団体・代
 表者の押印，見積書・納品書の提出，紙での郵送等を
 ご希望の方は，その旨通信欄にお書き添えください．\n
 また，話題提供資料は，参加者限定で事前に閲覧・ダ
 ウンロードのアドレスをお知らせします．\n\n&nbsp\;\n\n
 〔問合せ先〕\n\n問合せはこちらよりお願いします．\n\n
 &nbsp\;\n\n（注）\n会員IDをお持ちの方（正会員・特別会
 員担当者）はMYページにログインして申込みしてくださ
 い．\n参加者以外の担当者からのお申込みの場合は，E-m
 ail欄には担当者のアドレスを入力してください．\n資料
 閲覧・ダウンロードに必要なパスワードは，原則参加
 者にお知らせしますので，参加者のアドレスを「その
 他通信欄」に入力してください．\n\n&nbsp\;
CATEGORIES:懇話会
END:VEVENT
BEGIN:VTIMEZONE
TZID:Asia/Tokyo
X-LIC-LOCATION:Asia/Tokyo
BEGIN:STANDARD
DTSTART:20250608T144500
TZOFFSETFROM:+0900
TZOFFSETTO:+0900
TZNAME:JST
END:STANDARD
END:VTIMEZONE
END:VCALENDAR