BEGIN:VCALENDAR
VERSION:2.0
PRODID:-//wp-events-plugin.com//7.2.2.1//EN
TZID:Asia/Tokyo
X-WR-TIMEZONE:Asia/Tokyo
BEGIN:VEVENT
UID:222@jser.gr.jp
DTSTART;TZID=Asia/Tokyo:20260310T000000
DTEND;TZID=Asia/Tokyo:20261231T000000
DTSTAMP:20260310T055936Z
URL:https://www.jser.gr.jp/events/2026konwa/
SUMMARY:2026年度エネルギー政策懇話会　年間参加登録のご
 案内
DESCRIPTION:「エネルギー政策懇話会」は，企業の経営層や
 各界の専門家の方々に参加いただき，エネルギー・資
 源・環境・経済分野に係わる諸課題を様々な角度から
 議論しつつ，会員相互の交流を図る場として，2007 年度
 から開催して参りました．\n2026 年度も下記年間予定の
 とおり，当該分野に関連する様々なテーマの最新動向
 について話題提供をいただくとともに，参加者による
 自由闊達な議論と交流を行う懇話会として引き続き開
 催します．\nなお，本懇話会の特長として毎回交流会を
 併催しております．この交流会開催にあたり，昨今の
 飲食費高騰を鑑み，誠に恐れ入りますが，2026 年度から
 年間参加登録費を値上げすることをお願い申し上げま
 す．\nまた，スポット参加種別において，産業界と大学
 ・官公庁に分けた参加費設定をしておりましたが，他
 の行事同様に一律にてお願い申し上げます．\n会員各位
 におかれましては，趣旨にご賛同のうえ，多数ご参加
 いただきますようご案内申し上げます．\n\n&nbsp\;\n一般
 社団法人 エネルギー・資源学会企画担当理事，懇話会
 世話人代表　　秋元　圭吾\n&nbsp\;\n\n〔実施概要〕\n＊
 年６回（東京３回，大阪２回，名古屋１回）開催．各
 地域の世話人により開催．\n\n＊ 原則15 時から17 時まで
 に２名の方からの話題提供，そして参加者による意見
 交換，その後交流会を実施します．\n\n&nbsp\;\n\n〔年間
 予定テーマ・日程〕※いずれも変更する場合がありま
 す．\n\n　第１回　バイオ燃料の導入推進に関する官民
 の取組（６月８日（月），大阪）\n\n　第２回　大規模
 負荷の系統への接続を巡る課題と対応（７月，東京）\n
 \n　第３回　地域脱炭素（９月，名古屋）\n\n　第４回
 　再エネサプライチェーン（11 月，東京）\n\n　第５回
 　生物多様性（１月，大阪）\n\n　第６回　GHGプロトコ
 ルの改訂（３月，東京）\n\n&nbsp\;\n\n〔定　　員〕\n＊ 40
  名程度（本会の正会員および特別会員に限ります）\n\n
 &nbsp\;\n\n〔参加費（消費税込）〕\n\n＊ 原則として年６
 回の年間申込で，１名82\,500円（代理出席可）\n\n＊ 各
 回で定員に余裕がある場合は，１名あたり16\,500 円で参
 加できます．\n\n&nbsp\;\n\n〔申　　込〕\n\n以下の申込フ
 ォームをダウンロードしてお申し込みください．\n\n「2
 026年度エネルギー政策懇話会」年間参加登録申込書\n\n&
 nbsp\;\n\n〔問い合わせ先〕\n\n〒550-0003 大阪市西区京町堀
 1-9-10（リーガルスクエア京町堀）\n\n一般社団法人 エネ
 ルギー・資源学会　事務局\n\nTEL 06-6446-0537　FAX 06-6446-055
 9　E-mail：gyoji@jser.gr.jp
CATEGORIES:懇話会
END:VEVENT
BEGIN:VTIMEZONE
TZID:Asia/Tokyo
X-LIC-LOCATION:Asia/Tokyo
BEGIN:STANDARD
DTSTART:20250310T000000
TZOFFSETFROM:+0900
TZOFFSETTO:+0900
TZNAME:JST
END:STANDARD
END:VTIMEZONE
END:VCALENDAR