BEGIN:VCALENDAR
VERSION:2.0
PRODID:-//wp-events-plugin.com//7.2.2.1//EN
TZID:Asia/Tokyo
X-WR-TIMEZONE:Asia/Tokyo
BEGIN:VEVENT
UID:207@jser.gr.jp
DTSTART;TZID=Asia/Tokyo:20251029T150000
DTEND;TZID=Asia/Tokyo:20251029T184500
DTSTAMP:20250909T042255Z
URL:https://www.jser.gr.jp/events/2025konwa3/
SUMMARY:2025年度第3回エネルギー政策懇話会「第７次エネ
 ルギー基本計画と産業界の対応」
DESCRIPTION:第7次エネルギー基本計画が2025年2月18日に閣議
 決定され，2040年に向けた日本の取り組むべき課題や対
 応の方向性がまとめられました．同時にGX2040ビジョン
 が閣議決定され，日本の脱炭素社会を実現するための
 産業構造や産業立地に関する取り組みが示されました
 ．これらにおいて重要性が示された脱炭素電源の拡大
 は，温暖化目標の達成のためだけでなく，日本の産業
 が発展し，国際競争力を高めていくためにも重要です
 ．また，ロシアのウクライナ侵攻などによってエネル
 ギー安定供給の重要性が再認識され，第7次エネルギー
 基本計画では原子力発電の再稼働に向けた産業界と連
 携した官民一体の取り組みが示されています．このよ
 うに，第7次エネルギー基本計画では産業界において様
 々な役割や取り組みが期待されています．\n\n本懇話会
 では，第7次エネルギー基本計画が産業界全般に与える
 影響や期待される取り組みについて説明いただくとと
 もに，脱炭素化に資する産業界の具体的な取り組み事
 例をご紹介いただき，わが国の脱炭素社会を実現しつ
 つ，更なる発展に向けて産業界が果たすべき役割につ
 いて議論を交わしたいと思います．皆さま方多数の参
 加をお待ちしております．\n\n&nbsp\;\n\n〔主 催〕一般社
 団法人エネルギー・資源学会\n\n&nbsp\;\n\n〔日 時〕2025年
 10月29日（水）　15：00～17：00　懇話会\n\n＿＿＿＿＿＿
 ＿＿＿＿＿＿＿＿  　 17：15～18：45　交流会\n\n&nbsp\;\n
 〔会 場〕東桜会館　１階　第1会議室（名古屋市東区東
 桜2-6-30）\n　　　　＊交流会 旬魚旬菜 きたむら（名古
 屋市東区東桜2-9-32 ライフステージ高岳 1F）\n＿＿＿＿\n
 〔交通〕地下鉄東山線「新栄町駅」１番出口または桜
 通線「高岳駅」３番出口から徒歩５分\n＿\n\n〔司 会〕\
 n\n\n\n名古屋大学未来材料・システム研究所システム創
 成部門教\n加藤　丈佳\n\n\n（株）豊田中央研究所社会シ
 ステム研究領域 主任研究員\n原　　 卓也\n\n&nbsp\;\n\n\n\n
 〔次 第〕\n\n15：00～15：30　《話題提供（１）》\n\n\n\n
 …デロイトトーマツコンサルティング合同会社　執行
 役員\n加藤　健太郎　氏\n\n\n\n15：30～16：00　《話題提
 供（２）》\n\n\n\n…日本特殊陶業株式会社 エネルギー
 事業本部\nカーボンリサイクル開発部 CCU技術課 課長\n\n
 川瀬　広樹　氏\n\n\n\n（16：00～16：10　休憩）\n\n16：10
 ～17：00　意見交換（17：00～17：15　移動）\n\n17：15～18
 ：45　交流会\n\n&nbsp\;\n\n〔定 員〕30名\n\n&nbsp\;\n\n〔参加
 費（消費税込）〕\n\n参加は，本会の正会員・特別会員
 に限る．産業界13\,200円，大学・官公庁6\,600円\n\n&nbsp\;\n
 \n〔支払方法〕①銀行振込　りそな銀行御堂筋支店（普
 ）No.1024046　②郵便振替　00930-5-302948\n\n&nbsp\;\n\n〔申込
 方法〕\n\n以下の申込フォームよりお申し込みください
 （＊は必ずご記入ください）．\n参加証はメールでお送
 りします．当日ご持参ください．\n請求書・領収書は，
 電子メールの添付ファイル（PDFデータ（押印省略））
 にて，ご希望の方にのみお送りします．団体・代表者
 の押印，見積書・納品書の提出，紙での郵送等をご希
 望の方は，その旨通信欄にお書き添えください．\nまた
 、話題提供資料は、参加者限定で事前に閲覧・ダウン
 ロードのアドレスをお知らせします。\n\n&nbsp\;\n\n〔問
 合せ先〕\n\n問合せはこちらよりお願いします．\n\n&nbsp\
 ;\n\n（注）\n会員IDをお持ちの方（正会員・特別会員担
 当者）はMYページにログインして申込みしてください．
 \n参加者以外の担当者からのお申込みの場合は，E-mail欄
 には担当者のアドレスを入力してください．\n資料閲覧
 ・ダウンロードに必要なパスワードは，原則参加者に
 お知らせしますので，参加者のアドレスを「その他通
 信欄」に入力してください．\n\n&nbsp\;
CATEGORIES:懇話会
END:VEVENT
BEGIN:VTIMEZONE
TZID:Asia/Tokyo
X-LIC-LOCATION:Asia/Tokyo
BEGIN:STANDARD
DTSTART:20241029T150000
TZOFFSETFROM:+0900
TZOFFSETTO:+0900
TZNAME:JST
END:STANDARD
END:VTIMEZONE
END:VCALENDAR