BEGIN:VCALENDAR
VERSION:2.0
PRODID:-//wp-events-plugin.com//7.2.2.1//EN
TZID:Asia/Tokyo
X-WR-TIMEZONE:Asia/Tokyo
BEGIN:VEVENT
UID:155@jser.gr.jp
DTSTART;TZID=Asia/Tokyo:20230914T150000
DTEND;TZID=Asia/Tokyo:20230914T183000
DTSTAMP:20230905T055402Z
URL:https://www.jser.gr.jp/events/2023konwa3/
SUMMARY:2023年度第3回エネルギー政策懇話会「オンサイト
 ，オフサイトのPPA（Power Purchase Agreement）」
DESCRIPTION:再エネ電力およびその環境価値のニーズが高ま
 る中，その調達手段としてPPA (Power Purchase Agreement) の利
 用が拡大しています．PPAには，PPA事業者が企業敷地内
 に設置した再エネ電力を利用するオンサイト型，発電
 事業者が他所に設置した再エネ電力を自己託送や小売
 事業者を介して利用するオフサイト型があります．さ
 らに，オフサイト型には，時々刻々変化する再エネ電
 力とその環境価値を直接的に受け取るフィジカルPPAと
 ，再エネ電力の環境価値のみを直接的に受け取るバー
 チャルPPAがあります．今後の再エネ電力の更なる利用
 拡大に向け，これら様々なPPAの中から各需要家は適し
 たスキームを選択していくことが重要です．本会では
 ，国内外の様々なPPAに関する動向調査やPPA事業者によ
 る実際の取り組みに関して話題提供していただき，再
 エネ普及に向けたPPAへの期待と課題について，議論を
 交わしたいと思います．皆さま方多数のご参加をお待
 ちしております．\nなお，新型コロナウイルス感染症を
 考慮し，オンラインを交えたハイブリッド開催としま
 す．また，交流会（立食）の出欠は選択制としますの
 で，参加のご意向については個別に確認します．\n\n&nbs
 p\;\n\n〔主 催〕一般社団法人エネルギー・資源学会\n\n&n
 bsp\;\n\n〔日 時〕2023年9月14日（木）　15：00～17：00　懇
 話会\n\n＿＿＿＿＿＿＿＿＿＿＿＿＿＿＿  17：00～18：
 30　交流会（立食）\n\n&nbsp\;\n〔会 場〕東桜会館　１階
 　第2会議室（交流会は5階ホール）（名古屋市東区東桜
 2-6-30）\nおよびオンライン (Zoom) のハイブリッド形式\n
 ＿＿＿＿\n〔交通〕地下鉄東山線「新栄町駅」１番出口
 または桜通線「高岳駅」３番出口から徒歩５分\n＿\n\n
 〔司 会〕\n\n\n\n名古屋大学未来材料・システム研究所
 システム創成部門教授\n加藤　丈佳\n\n\n東邦ガス㈱技術
 研究所 新領域・ソリューションG　主幹\n青木　修一\n\n
 \n\n&nbsp\;\n\n〔次 第〕\n\n15：00～15：30　《話題提供（１
 ）》\n\n\n\n…株式会社三菱総合研究所　サステナビリテ
 ィ本部\nチーフコンサルタント\n小西　康哉　氏\n\n\n\n15
 ：30～16：00　《話題提供（２）》\n\n\n\n…NTTアノードエ
 ナジー株式会社　グリーンソリューション本部\n第一グ
 リーンソリューション部　部長\n嶋﨑　忠文　氏\n\n\n\n
 （16：00～16：10　休憩）\n\n16：10～17：00　意見交換（17
 ：00～17：10　移動）\n\n17：10～18：30　交流会\n\n&nbsp\;\n\
 n〔定 員〕会場40名、オンライン40名程度\n\n&nbsp\;\n\n〔
 参加費（消費税込）〕\n\n参加は、本会の正会員・特別
 会員に限る。産業界11\,000円，大学・官公庁5\,500円\n\n※
 交流会参加費　2\,200円（参加申込後、個別に出欠を確
 認します）\n\n&nbsp\;\n\n〔支払方法〕①銀行振込　りそ
 な銀行御堂筋支店（普）No.1024046　②郵便振替　00930-5-30
 2948\n\n&nbsp\;\n\n〔申込方法〕\n\n以下の申込フォームより
 お申し込み下さい（＊は必ずご記入下さい）。\n\n参加
 証はメールで、請求書などは郵送でお送りします。参
 加証は当日ご持参下さい。また、話題提供資料は、参
 加者限定で事前に閲覧・ダウンロードのアドレスをお
 知らせしますので、申込時にE-mailアドレスをお知らせ
 下さい。\n\n&nbsp\;\n\n〔問合せ先〕\n\n問合せはこちらよ
 りお願いします。\n\n&nbsp\;\n\n（注）\n会員IDをお持ちの
 方（正会員・特別会員担当者）はMYページにログインし
 て申込みして下さい。\n参加者以外の担当者からのお申
 込みの場合は、E-mail欄には担当者のアドレスを入力し
 て下さい。\n資料閲覧・ダウンロードに必要なパスワー
 ドは、原則参加者にお知らせしますので、参加者のア
 ドレスを「その他通信欄」に入力して下さい。\n\n&nbsp\;
CATEGORIES:懇話会
END:VEVENT
BEGIN:VTIMEZONE
TZID:Asia/Tokyo
X-LIC-LOCATION:Asia/Tokyo
BEGIN:STANDARD
DTSTART:20220914T150000
TZOFFSETFROM:+0900
TZOFFSETTO:+0900
TZNAME:JST
END:STANDARD
END:VTIMEZONE
END:VCALENDAR