BEGIN:VCALENDAR
VERSION:2.0
PRODID:-//wp-events-plugin.com//7.2.2.1//EN
TZID:Asia/Tokyo
X-WR-TIMEZONE:Asia/Tokyo
BEGIN:VEVENT
UID:64@jser.gr.jp
DTSTART;TZID=Asia/Tokyo:20210301T130000
DTEND;TZID=Asia/Tokyo:20210301T172000
DTSTAMP:20211019T053849Z
URL:https://www.jser.gr.jp/events/2020koshu2/
SUMMARY:2020年度第2回講習会「新型コロナウイルス感染拡
 大によってエネルギーと社会はどう変わるのか？」
DESCRIPTION:新型コロナウイルスの感染拡大はいまだ収まら
 ず、2020 年12 月８日時点で、国内の感染者数は16 万人、
 死亡者数は2400人、世界全体で見ると感染者数は68 百万
 人、死亡者数は150 万人に達しています。新型コロナウ
 イルスは、国内や世界各国の経済活動に非常に大きな
 影響を及ぼしています。一方、新型コロナウイルスは
 、テレワークの普及やネット通販の増加、オンライン
 サービスの利用拡大など、人々の生活や社会の姿を大
 きく変えており、これらの変化によりエネルギー需要
 が変わる可能性があります。\n\nまた、新型コロナウイ
 ルス感染拡大からの経済復興策として、欧州は、脱炭
 素で持続可能な社会を目指す投資（グリーンリカバリ
 ー）を計画しています。日本においても、2050 年カーボ
 ンニュートラルの実現を目指す経済政策を行う予定で
 す。\n\n本講習会では、経済やエネルギー需要、環境・
 エネルギー政策に関する６名の専門家をお招きし、新
 型コロナウイルスによる経済やエネルギー需要への短
 期的影響、ポストコロナの中長期的な社会やエネルギ
 ーへの影響などについて話題提供いただき、議論を交
 わしたいと思います。\n\n皆様方の多数のご参加をお待
 ちしております。\n\n&nbsp\;\n\n〔主 催〕一般社団法人エ
 ネルギー・資源学会\n\n&nbsp\;\n\n〔日 時〕2021年３月１日
 （月）13：00～17：20\n\n&nbsp\;\n\n〔会 場〕オンライン開
 催（参加者にZoom URL及びID等をお知らせします）\n※オ
 ンライン参加要領については、別途案内します。\n\n&nbs
 p\;\n\n〔モデレーター〕\n\n（一財）日本エネルギー経済
 研究所 電力・新エネルギーユニット担任 理事　　　　
 　工藤　拓毅\n（一財）エネルギー総合工学研究所 研
 究理事　主席研究員 　　　　　　　　　　　　黒沢　
 厚志\n\n&nbsp\;\n\n〔プログラム〕\n（注）持ち時間にはそ
 れぞれ質疑・討論の時間を含みます（演題は仮題目，
 敬称略）\n\n\n\n\n\n13：00～13：10　　　　　オンライン開
 催について説明\n\n\n1\n13：10～13：50\n「コロナショック
 が日本経済・産業に及ぼすインパクト」\n…みずほ総合
 研究所㈱ 調査本部 経済調査部 主任エコノミスト 酒井
 　才介\n\n\n2\n13：50～14：30\n「COVID-19がもたらした，人
 出の変化と電力需要構造の変容」\n…（一財）エネルギ
 ー総合工学研究所 プロジェクト試験研究部 嘱託研究員
  井上　智弘\n\n\n\n14：30～14：35　　　　　　　　休　　
 　　　　憩\n\n\n3\n14：35～15：15\n「輸送用燃料を中心と
 する石油需要へのコロナ禍の影響」\n…（一財）日本エ
 ネルギー経済研究所 石油情報センター 事務局長 橋爪
 　吉博\n\n\n4\n15：15～15：55\n「在宅勤務による民生部門
 エネルギー需要の変化」\n…大阪大学大学院工学研究科
  環境・エネルギー工学専攻 准教授 山口　容平\n\n\n\n15
 ：55～16：00　　　　　　　　休　　　　　　憩\n\n\n5\n16
 ：00～16：40\n「分散型社会像に関する一考察―コロナ後
 の暮らしや社会の姿―」\n…（一財）電力中央研究所 
 社会経済研究所 主任研究員 中野　一慶\n\n\n6\n16：40～17
 ：20\n「地球温暖化をめぐる内外情勢と日本の課題」\n
 …東京大学公共政策大学院　教授 有馬　　純\n\n\n\n（
 内容，時間配分は都合により変更することもあります
 がご了承下さい．）\n〔定 員〕100名程度\n\n&nbsp\;\n\n〔
 参加費（消費税込）〕\n\n正会員・特別会員10\,000 円，
 学生会員3\,000 円，非会員15\,000 円\n\n&nbsp\;\n\n〔支払方
 法〕①銀行振込　りそな銀行御堂筋支店（普）No.1024046
 　②郵便振替　00930-5-302948\n\n&nbsp\;\n\n〔申込方法〕\n\n
 以下の申込フォームよりお申し込み下さい。参加者に
 は、事前にZoom URL及びID等をお知らせします。なお、請
 求書等は郵送でお送りします。また、講演資料のダウ
 ンロードに必要なID/PW も参加者限定でアドレスをお知
 らせしますので、申込時に、必ずE-mail アドレスをお知
 らせ下さい。\n\n&nbsp\;\n\n〔問合せ先〕\n\n問合せはこち
 らよりお願いします。\n\n&nbsp\;
CATEGORIES:講習会
END:VEVENT
BEGIN:VTIMEZONE
TZID:Asia/Tokyo
X-LIC-LOCATION:Asia/Tokyo
BEGIN:STANDARD
DTSTART:20200301T130000
TZOFFSETFROM:+0900
TZOFFSETTO:+0900
TZNAME:JST
END:STANDARD
END:VTIMEZONE
END:VCALENDAR