BEGIN:VCALENDAR
VERSION:2.0
PRODID:-//wp-events-plugin.com//7.2.2.1//EN
TZID:Asia/Tokyo
X-WR-TIMEZONE:Asia/Tokyo
BEGIN:VEVENT
UID:62@jser.gr.jp
DTSTART;TZID=Asia/Tokyo;VALUE=DATE:20210308
DTEND;TZID=Asia/Tokyo;VALUE=DATE:20210309
DTSTAMP:20211019T053903Z
URL:https://www.jser.gr.jp/events/2020konwa6/
SUMMARY:2020年度第6回エネルギー政策懇話会「モビリティ
 とエネルギーの協調による事業スキームとサステイナ
 ビリティへの貢献可能性」
DESCRIPTION:菅総理の所信表明演説により表明された2050 年
 までの脱炭素社会の実現については、既に80 か国近い
 国が宣言しており、更に次期米国政権も同様の政策を
 掲げている。日本では，再生可能電源，特に太陽光発
 電の大量導入に伴い、電力システム、ひいてはエネル
 ギーシステム全体に大きな変革の波が押し寄せている
 。一方、モビリティにおいてもCASE に代表される新しい
 ライフスタイルと技術のトレンドと共に、MaaS のように
 移動を一つのサービスとして提供する概念が注目され
 ている、更に、エネルギーとモビリティの協調につい
 ては，V2G やP2G を通じたEV、PHEV、FCEV等の自動車とエネ
 ルギーシステムとの親和性に着目した研究や実証実験
 が進められている。\n\n本政策懇話会では、こうした状
 況に鑑み，モビリティ側からの事業構想、エネルギー
 側からの事業構想を考慮し、両システムの協調により
 、地域社会の福祉向上、レジリエンスの向上、エネル
 ギーシステムの安定化とCO2 削減効果など多様な要因を
 もってサステイナビリティに貢献する可能性を展望す
 る。こうした多様な要因を検討するため，モビリティ
 、エネルギーを専門とするアカデミアとこれらを統合
 した事業スキームの経済性を検討する事業者から３名
 の講演を頂き、聴講者との意見交換を通じて、本テー
 マの更なる検討を進める。皆様方の多数の参加をお待
 ちしております。\n\n&nbsp\;\n\n〔主 催〕一般社団法人エ
 ネルギー・資源学会\n\n&nbsp\;\n\n〔日 時〕2021年３月８日
 （月）14：50～17：30\n\n&nbsp\;\n\n〔会 場〕オンライン開
 催（参加者にZoom URL等をお知らせします）\n\n※オンラ
 イン参加要領については、別途ご案内します。\n\n&nbsp\;
 \n\n〔司 会〕\n\n東京大学大学院工学系研究科電気系工
 学専攻 教授　　　　松橋　隆治\n株式会社NTTファシリ
 ティーズカスタマーソリューション本部\n\nサービス推
 進部環境エネルギー推進部門長　　　　田口　泰啓\n\n&
 nbsp\;\n\n〔次 第〕\n\n14：50～15：00　参加者入室確認及び
 参加要領確認\n15：00～15：30　《話題提供（１）》\n…
 横浜国立大学大学院都市イノベーション研究院都市イ
 ノベーション部門 特任准教授　有吉　　亮 氏\n15：30
 ～16：00　《話題提供（２）》\n…株式会社まち未来製
 作所 シニアアソシエイト　辻野　昌広 氏\n16：00～16：3
 0　《話題提供（３）》\n…東京大学大学院工学系研究
 科電気系工学専攻 教授　松橋　隆治氏\n（16：30～16：35
 　休憩）\n16：35～17：30　意見交換（状況により，時間
 を延長することがあります）\n\n&nbsp\;\n\n〔定 員〕80名
 程度\n\n&nbsp\;\n\n〔参加費（消費税込）〕参加は、本会
 の正会員・特別会員に限る。産業界13\,200円，大学・官
 公庁6\,600円\n\n&nbsp\;\n\n〔支払方法〕①銀行振込　りそ
 な銀行御堂筋支店（普）No.1024046　②郵便振替　00930-5-30
 2948\n\n&nbsp\;\n\n〔申込方法〕\n\n以下の申込フォームより
 お申し込み下さい（＊は必ずご記入下さい）。参加者
 には、事前にZoom URL等をお知らせします。請求書などは
 郵送でお送りします。また、話題提供資料は、参加者
 限定で事前に閲覧・ダウンロードのアドレスをお知ら
 せしますので、申し込み時にE-mailアドレスをお知らせ
 下さい。\n\n&nbsp\;\n\n〔問合せ先〕\n\n〒550-0003 大阪市西
 区京町堀1-9-10（リーガルスクエア京町堀）\n一般社団法
 人エネルギー・資源学会 事務局（https://www.jser.gr.jp/）\n
 TEL 06-6446-0537　E-mail：gyoji@jser.gr.jp\n\n&nbsp\;
CATEGORIES:懇話会
END:VEVENT
BEGIN:VTIMEZONE
TZID:Asia/Tokyo
X-LIC-LOCATION:Asia/Tokyo
BEGIN:STANDARD
DTSTART:20200308T000000
TZOFFSETFROM:+0900
TZOFFSETTO:+0900
TZNAME:JST
END:STANDARD
END:VTIMEZONE
END:VCALENDAR