BEGIN:VCALENDAR
VERSION:2.0
PRODID:-//wp-events-plugin.com//7.2.2.1//EN
TZID:Asia/Tokyo
X-WR-TIMEZONE:Asia/Tokyo
BEGIN:VEVENT
UID:21@jser.gr.jp
DTSTART;TZID=Asia/Tokyo:20191116T093000
DTEND;TZID=Asia/Tokyo:20191116T170000
DTSTAMP:20201130T063259Z
URL:https://www.jser.gr.jp/events/2019workshop/
SUMMARY:オータムワークショップ2019「デジタル化から期待
 される新たな電力ビジネスとは」
DESCRIPTION:再生可能エネルギーの大規模導入や電気自動車
 などの新たな需要の登場により電力システムは急速な
 変化を迫られており、これに対応するように電力ビジ
 ネスを取り巻く環境も大きく変わり始めています。直
 近では、2016年４月の電力市場完全自由化によって「小
 売電気事業者（新電力）」が登場し、特色ある電力サ
 ービスを各地で展開しています。また、2020年４月には
 発送電分離が控えており、さらには、発電容量や調整
 力を対象にした新たな市場の創設も検討されています
 。安定供給や気候変動への対応を目的として、電力シ
 ステムの変革は益々進むと予想されます。このような
 背景の中、ビッグデータを活用した省エネ・見守りサ
 ービスやIoT機器によるADR（Automated Demand Response）、ブロ
 ックチェーンを活用した電力のP2P取引など、デジタル
 技術と電力システムを組み合わせる取り組みが進めら
 れ始めています。一方、ビッグデータの利活用にはプ
 ライバシー確保などの注意点・課題も存在しています
 。\n本ワークショップでは、テーマに関連する講演、パ
 ネルディスカッション、および、参加者同士の活発な
 議論を通じて、電力システムを取り巻くデジタル技術
 や新電力など電力小売ビジネスの最新動向、デジタル
 化がエネルギービジネスに与える影響について学ぶこ
 とを目指します。ワークショップの中には、参加者に
 よる研究紹介や所属企業の紹介の場を設け、参加者間
 の交流を促進します。参加者の研究分野や所属企業の
 事業分野について相互に勉強、理解することにより、
 参加者それぞれの視野を大きく広げることを目指しま
 す。多様なバックグラウンドをお持ちの方々のご参加
 を、お待ちしております。\n\n&nbsp\;\n\n〔テ ー マ〕「デ
 ジタル化から期待される新たな電力ビジネスとは」\n\n&
 nbsp\;\n\n〔主　　催〕エネルギー・資源学会\n\n&nbsp\;\n\n
 〔協　　賛〕環境経済・政策学会，空気調和・衛生工
 学会，省エネルギーセンター，電気学会東京支部，日
 本エネルギー学会，日本オペレーションズ・リサーチ
 学会\n\n&nbsp\;\n\n〔開 催 日〕2019年11月16日（土）10時開
 始　～　17時終了　終了後，技術交流会を予定\n\n&nbsp\;\
 n\n〔会　　場〕東京大学 本郷キャンパス 工学部２号館
 ３階 会議室１（33A）（東京都文京区）\n\n&nbsp\;\n\n〔参
 加費（消費税込）〕正会員・特別会員・協賛団体会員3\
 ,000円，学生会員1\,000円，非会員4\,000円\n※１．非会員
 の方でも参加申込みと併せて入会手続きをしていただ
 ければ、会員資格で参加できます。\n\n※２．技術交流
 会参加費　正会員・特別会員・協賛団体会員・非会員3\
 ,000円，学生会員1\,000円\n\n&nbsp\;\n\n〔支払方法〕①銀行
 振込　りそな銀行御堂筋支店（普）No.1024046　　②郵便
 振替　00930-5-302948\n\n&nbsp\;\n\n〔申込方法〕以下の申込フ
 ォームよりお申込み下さい。\n※参加者相互の交流促進
 のため、お申込み後に自己紹介シートのご提出を願い
 しております。\n\n&nbsp\;\n\n〔申込期限〕2019年11月8日（
 金）\n\n&nbsp\;\n\n〔問合せ先〕\n\nワークショップ詳細：
 小澤　暁人（産業技術総合研究所，Email：akito.ozawa@aist.g
 o.jp）\nその他：一般社団法人エネルギー・資源学会　
 事務局\nTEL：06-6446-0537　FAX：06-6446-0559　Email：webmaster@jse
 r.gr.jp\n\n&nbsp\;\n\n〔過去実績〕\n\n本ワークショップは199
 9年から毎年開催しており、若手会員が共に学び、交流
 する場として本会に定着しております。例年30名程度の
 方々が参加しています。過去のテーマなど詳細は、Web
 サイト（https://www.jser.gr.jp/summer）をご確認下さい。\n\n&n
 bsp\;\n\n＜過去５年間のテーマと開催場所＞\n2018年　「
 私たちのエネルギーシステムをどのようにデザインす
 るか」 （東京理科大学）\n2017年　「長崎で原子力エネ
 ルギー技術の未来を社会とともに考える」 （長崎大学
 ）\n2016年　「パリ協定後のエネルギー技術を考える」 
 （国立環境研究所）\n2015年　「くらしの省エネルギー
 と住みやすさ・健康の両立を考える」 （前橋工科大学
 ）\n2014年　「東京2020を目指したエネルギー事業案を競
 う」 （東京大学）\n\n&nbsp\;\n\n&nbsp\;\n\n〔ワークショッ
 プ概要〕\n\n本ワークショップは、「テーマに関する学
 び」「参加者の研究・企業紹介」「グループワーク」
 の３つに分けられます。 「テーマに関する学び」では
 、４件の講演と２件のパネルディスカッションを予定
 しています。講演者の情報提供に よりワークショップ
 テーマに関する情報・知識のインプットを行うととも
 に、パネルディスカッションでの全員参加 のディスカ
 ッションを通してワークショップテーマの本質に迫り
 ます。「参加者の研究・企業紹介」では、参加者が 事
 前に作成した自己紹介シートを活用して、参加者が現
 在取り組んでいる研究や所属企業の業務等を紹介しあ
 い、参 加者間の交流を促進します。「グループワーク
 」では、テーマに関する学びと参加者の研究・企業紹
 介で得られた情報・ 知識を踏まえて、デジタル化が参
 加者の研究や業務に与えうる影響、新たな研究やビジ
 ネスの可能性について議論し ます。全体を通して学生
 ・社会人が一緒になって行動・議論しますが、基本的
 に立場の上下はありませんので、学生 も自発・積極的
 に発言することが求められます。\n\n&nbsp\;\n\n〔スケジ
 ュール〕\n11月16日（土）\n９：30　　　　　 受付開始（
 東京大学 本郷キャンパス 工学部２号館３階　会議室１
 ）\n10：00～10：05　オータムワークショップ2019のねらい
 　（地球環境戦略研究機関　藤野純一）\n10：05～10：15
 　ワークショップ概要説明　（幹事団）\n10：15～10：45
 　講演　田中謙司 氏（東京大学）\n「デジタル時代に
 おける新しい電力流通とその可能性 ─P2Pによる協調メ
 カニズム─」\n10：45～11：15　講演　芦澤正美 氏（電力
 中央研究所）\n「電力のデジタルトランスフォーメーシ
 ョン ”Energy as a Service”」\n11：15～12：00　パネルディ
 スカッション①「研究者から見たデジタル化×電力ビジ
 ネス」\nコーディネーター：古林敬顕（秋田大学）\n12
 ：00～12：30　参加者による研究紹介や所属企業の紹介
 （自己紹介シートを活用）\n12：30～13：30　昼食\n13：30
 ～14：00　講演　三宅成也 氏（みんな電力株式会社）「
 再エネ価値を高める「トレーサブル」な電気の供給　
 ─世界初のブロックチェーンによる電力トレーサビリ
 ティの商用化─」\n14：00～14：30　講演　滝澤隆志 氏（
 秩父新電力株式会社）「ちちぶ地域における秩父新電
 力による持続可能なまちづくりに向けた挑戦 ～自治体
 新電力におけるAI・ビッグデータの活用事例を交えて～
 」\n14：30～15：15　パネルディスカッション②「実務家
 から見たデジタル化×電力ビジネス」\nコーディネータ
 ー：渡邊裕美子（Looop）\n15：15～15：30　休憩\n15：30～16
 ：30　グループワーク「デジタル化×参加者の研究・業
 務」\n16：30～17：00　全体振り返り\n17：00～19：00　技術
 交流会　（会場：検討中，司会：小澤暁人（産業技術
 総合研究所））\n\n&nbsp\;\n\n〔代表幹事〕藤野純一（地
 球環境戦略研究機関）\n\n&nbsp\;\n\n〔幹 事〕井上智弘（
 科学技術振興機構），井上麻衣（リバネス），上道　
 茜（東京農工大学），小澤暁人（産業技術総合研究所
 ），白木裕斗（滋賀県立大学），杉山昌広（東京大学
 ），鈴木研悟（筑波大学），永井雄宇（電力中央研究
 所），藤澤　星（フジサワ），古林敬顕（秋田大学）
 ，山口容平（大阪大学），渡邊裕美子（Looop）\n\n&nbsp\;\
 n\n〔世 話 人〕松橋隆治（東京大学）\n\n&nbsp\;
CATEGORIES:研究部会
END:VEVENT
BEGIN:VTIMEZONE
TZID:Asia/Tokyo
X-LIC-LOCATION:Asia/Tokyo
BEGIN:STANDARD
DTSTART:20181116T093000
TZOFFSETFROM:+0900
TZOFFSETTO:+0900
TZNAME:JST
END:STANDARD
END:VTIMEZONE
END:VCALENDAR